BEGIN:VCALENDAR
VERSION:2.0
PRODID:-//wp-events-plugin.com//7.2.3.1//EN
TZID:Europe/Paris
X-WR-TIMEZONE:Europe/Paris
BEGIN:VEVENT
UID:7308@i2m.univ-amu.fr
DTSTART;TZID=Europe/Paris:20180528T000000
DTEND;TZID=Europe/Paris:20180530T000000
DTSTAMP:20241213T103326Z
URL:https://www.i2m.univ-amu.fr/evenements/master-class-applied-mathematic
 s-ceps/
SUMMARY:Workshop (CIRM\, Luminy\, Marseille): Master Class Applied Mathemat
 ics CEPS
DESCRIPTION:Workshop: The Master Class Applied Mathematics CEPS is a three-
 day training course whose goal is to present the themes of the Master 2 Ap
 plied Mathematics CEPS in Marseille\, namely scientific computing\, partia
 l differential equations\, probabilities and statistics. An important plac
 e will be given to the decompartmentalisation between deterministic and ra
 ndom aspects on the one hand and theory\, numerical methods and applicatio
 ns on the other hand. The annual theme of the Master 2 Applied Mathematics
  CEPS being : Mathematics of energy\, the Master Class will be structured 
 around applications to energy.\n\nThis training applies to all students in
 terested in applied mathematics (students currently in Master 1 will be hi
 gh-priority\, but applications of students in Master 2 will also be consid
 ered). It aims at introducing research in applied mathematics to students\
 , in a privileged environment which enables real interactions with the inv
 ited researchers (from universities\, institutes and companies).\n\n​Thi
 s Master Class will consist of four mini-courses of three hours and three 
 talks of one hour by researchers from institutes and companies\, arround t
 he theme of mathematics of energy.aster Class Mathématiques appliquées C
 EPS\n-\nMini-courses :\n- Statistical methods applied to energy\n- Around 
 the notion of entropy in PDEs and probability\n- Numerical Methods for flu
 id mechanics\n- Reaction-Diffusion equation for combustion models ​\n-\n
 Steering committee :\n- Julia Charrier (I2M\, Marseille)\n- Maxime Hauray 
 (I2M\, Marseille)\n- Raphaèle Herbin (I2M\, Marseille)\n- Erwan Hillion (
 I2M\, Marseille)\n- Oleg Lepski (I2M\, Marseille)\n-\n\nSponsors :\n\n- Ai
 x-Marseille Université (AMU)\n- Fédération de Recherche Fusion par Conf
 inement Magnétique-ITER (FR-FCM/ITER 3029)\n- Institut de Mathématiques 
 de Marseille (I2M)\n- LabEx Archimède\n\n-\n-\nAutre lien : CIRM
ATTACH;FMTTYPE=image/jpeg:https://www.i2m.univ-amu.fr/wp-content/uploads/2
 018/06/image_aa-hal-01115250-pressure_correction_scheme-p30-fig15-grapsas-
 herbin-kheriji-latche-x450.jpg
CATEGORIES:École ou Master class
END:VEVENT
BEGIN:VTIMEZONE
TZID:Europe/Paris
X-LIC-LOCATION:Europe/Paris
BEGIN:DAYLIGHT
DTSTART:20180325T030000
TZOFFSETFROM:+0100
TZOFFSETTO:+0200
TZNAME:CEST
END:DAYLIGHT
END:VTIMEZONE
END:VCALENDAR