BEGIN:VCALENDAR
VERSION:2.0
PRODID:-//wp-events-plugin.com//7.2.3.1//EN
TZID:Europe/Paris
X-WR-TIMEZONE:Europe/Paris
BEGIN:VEVENT
UID:8406@i2m.univ-amu.fr
DTSTART;TZID=Europe/Paris:20140407T104500
DTEND;TZID=Europe/Paris:20140407T114500
DTSTAMP:20241120T210403Z
URL:https://www.i2m.univ-amu.fr/evenements/mesures-de-carleson-dans-les-es
 paces-de-de-branges-rovnyak/
SUMMARY: Frédéric Gaunard (IMB\, Université de Bordeaux 1): Mesures de C
 arleson dans les espaces de de Branges-Rovnyak
DESCRIPTION: Frédéric Gaunard: Carleson measurements for the de Branges-R
 ovnyak spaces\n\nhttps://hal.archives-ouvertes.fr/hal-00850615\n\n&nbsp\;
ATTACH;FMTTYPE=image/jpeg:https://www.i2m.univ-amu.fr/wp-content/uploads/2
 021/04/Frederic_Gaunard.jpg
CATEGORIES:Séminaire,Analyse et Géométrie
END:VEVENT
BEGIN:VTIMEZONE
TZID:Europe/Paris
X-LIC-LOCATION:Europe/Paris
BEGIN:DAYLIGHT
DTSTART:20140330T030000
TZOFFSETFROM:+0100
TZOFFSETTO:+0200
TZNAME:CEST
END:DAYLIGHT
END:VTIMEZONE
END:VCALENDAR