BEGIN:VCALENDAR
VERSION:2.0
PRODID:-//wp-events-plugin.com//7.2.3.1//EN
TZID:Europe/Paris
X-WR-TIMEZONE:Europe/Paris
BEGIN:VEVENT
UID:2396@i2m.univ-amu.fr
DTSTART;TZID=Europe/Paris:20180619T110000
DTEND;TZID=Europe/Paris:20180619T120000
DTSTAMP:20180604T090000Z
URL:https://www.i2m.univ-amu.fr/evenements/methodes-de-discretisation-de-g
 radient-pour-des-problemes-de-convection-lineaire-couples-ou-non/
SUMMARY: (...): Méthodes de discrétisation de gradient pour des problème
 s de convection linéaire\, couplés ou non.
DESCRIPTION:: Différents problèmes\, comme le transport d'espèces par un
  fluide dont la viscosité dépend de la composition\, ou le transport de 
 l'enthalpie par un fluide qui change d'état\, conduisent à des systèmes
  couplés comportant des termes de convection linéaire. Pour ces modèles
  peuvent être choisies des méthodes de discrétisation répondant à un 
 cahier des charges lié aux termes de diffusion. Dans un certain nombre de
  situations\, ces méthodes peuvent rentrer dans le cadre des méthodes de
  discrétisation de gradient. L'exposé portera sur différentes approches
  pour appliquer ce type de méthode à la discrétisation des termes de co
 nvection linéaire. http://perso-math.univ-mlv.fr/users/eymard.robert/
CATEGORIES:Séminaire,Analyse Appliquée
END:VEVENT
BEGIN:VTIMEZONE
TZID:Europe/Paris
X-LIC-LOCATION:Europe/Paris
BEGIN:DAYLIGHT
DTSTART:20180325T030000
TZOFFSETFROM:+0100
TZOFFSETTO:+0200
TZNAME:CEST
END:DAYLIGHT
END:VTIMEZONE
END:VCALENDAR