BEGIN:VCALENDAR
VERSION:2.0
PRODID:-//wp-events-plugin.com//7.2.3.1//EN
TZID:Europe/Paris
X-WR-TIMEZONE:Europe/Paris
BEGIN:VEVENT
UID:8941@i2m.univ-amu.fr
DTSTART;TZID=Europe/Paris:20251209T110000
DTEND;TZID=Europe/Paris:20251209T120000
DTSTAMP:20251206T081854Z
URL:https://www.i2m.univ-amu.fr/evenements/modeles-de-metapopulations-des-
 zoonoses-en-afrique-subsaharienne/
SUMMARY:Patrick Tchepmo ( ): Modèles de métapopulations des zoonoses en A
 frique subsaharienne
DESCRIPTION:Patrick Tchepmo: Nous présentons plusieurs modèles décrivant
  la dynamique de transmission du mpox et de la tuberculose bovine dans le 
 contexte subsaharien. Nous mettons en exergue l’influence déterminante 
 des cas non détectés\, des mouvements de populations entre localités\, 
 ainsi que de la compétition interspécifique sur la dynamique globale de 
 propagation.
CATEGORIES:Séminaire,Analyse Appliquée
LOCATION:I2M Saint-Charles - Salle de séminaire\, Université Aix-Marseill
 e\, Campus Saint-Charles\, 3 Place Victor Hugo\, Marseille\, 13003\, Franc
 e
X-APPLE-STRUCTURED-LOCATION;VALUE=URI;X-ADDRESS=Université Aix-Marseille\,
  Campus Saint-Charles\, 3 Place Victor Hugo\, Marseille\, 13003\, France;X
 -APPLE-RADIUS=100;X-TITLE=I2M Saint-Charles - Salle de séminaire:geo:0,0
END:VEVENT
BEGIN:VTIMEZONE
TZID:Europe/Paris
X-LIC-LOCATION:Europe/Paris
BEGIN:STANDARD
DTSTART:20251026T020000
TZOFFSETFROM:+0200
TZOFFSETTO:+0100
TZNAME:CET
END:STANDARD
END:VTIMEZONE
END:VCALENDAR