BEGIN:VCALENDAR
VERSION:2.0
PRODID:-//wp-events-plugin.com//7.2.3.1//EN
TZID:Europe/Paris
X-WR-TIMEZONE:Europe/Paris
BEGIN:VEVENT
UID:6109@i2m.univ-amu.fr
DTSTART;TZID=Europe/Paris:20220325T130000
DTEND;TZID=Europe/Paris:20220325T150000
DTSTAMP:20241209T161907Z
URL:https://www.i2m.univ-amu.fr/evenements/modeles-stochastiques-des-epide
 mies-en-espace-continu-loi-des-grands-nombres-theoreme-central-limite-et-g
 randes-deviations/
SUMMARY:Alphonse Emakoua (I2M\, Aix-Marseille Université): Modèles stocha
 stiques des épidémies en espace continu: loi des grands nombres\, théor
 ème central limite et grandes déviations
DESCRIPTION:Alphonse Emakoua: Modèles stochastiques des épidémies en esp
 ace continu: loi des grands nombres\, théorème central limite et grandes
  déviations.\nLe but de la thèse est d'étudier le comportement de modè
 les stochastiques d'épidémies individus-centrés incluant une dimension 
 spatiale. Les trois premiers chapitres de la thèse traitent de trois vari
 antes du même modèle. Pour chacune de ses variantes\, on montre que lors
 que la taille de la population tend vers l'infini\, le modèle stochastiqu
 e converge vers un système d'EDPs déterministe (loi des grands nombres).
  Ensuite on étudie les fluctuations du modèle stochastique autour du 
 modèle déterministe limite par le théorème  central limite.  La lim
 ite est un processus  d'Ornstein-Uhlenbeck et peut être représentée co
 mme la solution d'un système d'équations aux dérivées partielles stoch
 astiques. Enfin\, le dernier chapitre  utilise les grandes déviations po
 ur étudier le temps d'extinction d'une situation endémique.\nDirectrice 
 de thèse : Fabienne Castell\nCo-encadrant : Etienne Pardoux\nJury :\nArna
 ud DEBUSSCHE  (ENS Rennes)\nNils BERGLUND ( Université d’Orléans)\nIn
 gemar KAJ  (Uppsala Universitet)\nSamuel BOWONG (Université de Douala)\
 nThierry GALLOUET (Aix-Marseille Université)\nViet Chi TRAN (Université
   Gustave Eiffel)
CATEGORIES:Soutenance de thèse,ALEA,Probabilités
LOCATION:Saint-Charles - FRUMAM  (2ème étage)\, 3 Place Victor Hugo\, Mar
 seille\, 13003\, France
X-APPLE-STRUCTURED-LOCATION;VALUE=URI;X-ADDRESS=3 Place Victor Hugo\, Marse
 ille\, 13003\, France;X-APPLE-RADIUS=100;X-TITLE=Saint-Charles - FRUMAM  (
 2ème étage):geo:0,0
END:VEVENT
BEGIN:VTIMEZONE
TZID:Europe/Paris
X-LIC-LOCATION:Europe/Paris
BEGIN:STANDARD
DTSTART:20211031T020000
TZOFFSETFROM:+0200
TZOFFSETTO:+0100
TZNAME:CET
END:STANDARD
END:VTIMEZONE
END:VCALENDAR