BEGIN:VCALENDAR
VERSION:2.0
PRODID:-//wp-events-plugin.com//7.2.3.1//EN
TZID:Europe/Paris
X-WR-TIMEZONE:Europe/Paris
BEGIN:VEVENT
UID:8010@i2m.univ-amu.fr
DTSTART;TZID=Europe/Paris:20150918T140000
DTEND;TZID=Europe/Paris:20150918T160000
DTSTAMP:20241210T135950Z
URL:https://www.i2m.univ-amu.fr/evenements/modelisation-derosion-cotiere-a
 pplication-a-la-partie-ouest-du-tombolo-de-giens-van-van-than/
SUMMARY:Van Van Than (I2M\, Aix-Marseille Université): Modélisation d’
 érosion côtière : application à la partie ouest du tombolo de Giens
DESCRIPTION:Van Van Than: Le tombolo de Giens (tombolo) est situé sur la c
 ommune de Hyères (Var). Ce double tombolo est constitué de deux branches
 \, occidentale et orientale (tombolo Ouest/occidental et Est/oriental). Su
 r une côte à faible marée et vagues dominantes et saisonnières\, la dy
 namique du tombolo a un caractère saisonnier. En été\, les houles sont 
 faibles\, ce qui entraîne un bas niveau de sédimentation. En hiver\, cel
 les-ci entraînent un degré élevé de sédimentation. Actuellement\, l
 ’équilibre du tombolo est menacé par des phénomènes d’érosion mar
 ine. Celle-ci conduit au franchissement et à la destruction du cordon lit
 toral et au dépôt des sables sur la route du sel et dans le canal de cei
 nture des marais des Pesquiers.\nDepuis les années 50\, le tombolo a ét
 é étudié sous diverses formes de recherches scientifiques et de projets
  par des cabinets d’ingénierie (commandes d’acteurs locaux)\, des ass
 ociations (subventions) ou des laboratoires de recherche publics. Ces étu
 des portent sur : l’hydrodynamique \; la géomorphologie \; le transport
  sédimentaire \; l’évolution des herbiers de posidonie\, des plages sa
 bleuses\, et du trait de côte \; et la gestion\, la réhabilitation\, et 
 la sauvegarde du tombolo.\nJusqu’à maintenant\, la compréhension du r
 égime hydrodynamique et du transport des sédiments dans le golfe de Gien
 s est incomplète\, et repose sur des techniques anciennes. De plus\, la V
 ille de Hyères n’a pas réussi à mettre en place une solution efficace
  tant sur le plan technique qu’économique pour défendre la plage de l
 ’Almanarre contre l’érosion marine et assurer la stabilité du rivage
  de cette plage.\nL’objectif de cette thèse est la détermination des c
 auses du phénomène d’érosion marine\, et la production de proposition
 s d’orientation pour la protection de la branche occidentale.\n\nL’obj
 ectif principal de cette recherche est de comprendre le comportement morph
 ologique du tombolo. L’intérêt particulier se concentre sur les princi
 paux facteurs d’érosion tels que la caractéristique de marée\, le ré
 gime des vagues\, des vents et l’interaction entre tous ces facteurs qui
  influencent les changements morphologiques.\nL’étude commence par la c
 ollecte et l’analyse de toutes les données disponibles\, pour trouver d
 es règles d’évolution du tombolo. Ce qui a pour but d’expliquer comm
 ent les processus hydrodynamique et de transport sédimentaire se produise
 nt. Ensuite\, le logiciel de modélisation MIKE\, qui peut les modéliser\
 , a été appliqué pour confirmer l’hypothèse et obtenir une meilleure
  connaissance de la dynamique à l’œuvre au tombolo occidental.\n\nEnsu
 ite\, la thèse analyse et détermine les principaux agents affectant l’
 évolution du tombolo Ouest\, tels que les houles\, les courants\, et les 
 tempêtes. La mise en place du modèle numérisé de la branche occidental
 e permet d’obtenir une image complète du processus d’évolution du li
 ttoral. Il montre que la force de la houle est l’agent érosif le plus i
 mportant pour le littoral ouest de Giens. De plus\, les tempêtes\, les s
 édiments\, la nature du fond et les biocénoses (posidonies) jouent un r
 ôle important dans la dynamique de l’érosion marine de ce littoral. Le
 s autres facteurs tels que le courant\, la surcote\, le vent\, et la maré
 e\, jouent un rôle faible ou moyen.\nNous avons couplé des facteurs simu
 ltanément : les houles\, les courants côtiers\, et les transports des s
 édiments pour les différents régimes des houles et des vents dans MIKE 
 21. La qualité de simulation du modèle de MIKE dans ce domaine est assez
  bonne. L’intégration d’un certain nombre de modules donne des résul
 tats raisonnables\, compatibles avec les phénomènes réels et les mesure
 s réalisées. Ainsi\, nous pouvons utiliser ce modèle pour calculer l’
 évolution du littoral à l’avenir et prévoir l’impact des solutions 
 de protection envisagées sur l’évolution du littoral.\nL’évolution 
 du rivage est ensuite analysée sur le changement du trait de côte ainsi 
 que le transport longitudinal des sédiments. Premièrement\, l’outil de
  DSAS est appliqué afin d’analyser la modification historique de la lig
 ne du rivage. Deuxièmement\, la capacité du transit sédimentaire est es
 timée en utilisant le modèle LITPACK.\nEnfin\, la possibilité de stabil
 iser le tombolo Ouest est discutée pour donner des suggestions sur les ch
 oix de solutions adaptées. Les modèles couplés nous permettent de calcu
 ler l’évolution hydrodynamique et morphologique au tombolo Ouest en pr
 ésence des constructions de protection. Nous remarquons que le rechargeme
 nt semble être incontournable pour la stabilisation de la plage. Cependan
 t\, le rechargement avec ou sans ouvrages ne suffit pas à arrêter défin
 itivement le phénomène d’érosion marine au tombolo ouest. Les brise-l
 ames semblent une protection efficace contre l’érosion marine\, particu
 lièrement efficace pour la zone nord. Ces solutions sont conformes à l
 ’objectif fixé pour le problème de l’érosion au tombolo.\n-\nMots c
 lés : hydrodynamique\, plage de l’Almanarre\, modèle numérique\, mod
 èles couplés\, évolution \, érosion côtière\, tombolo\, rechargement
  des plages\, brise-lames.\n-\n*Membres du jury :\n-\n- Kim Dan NGUYEN\, P
 rofesseur\, Université de Paris Est\, Rapporteur\n- Sylvain GUILLOU\, Dr-
 HDR\, Université de Caen Normandie\, Rapporteur\n- Yves LACROIX\, Profess
 eur\, SEATECH\, Directeur de thèse\n- Didier LÉANDRI\,Professeur\, SEATE
 CH\, Examinateur\n- Jacques PIAZZOLA\, Professeur\, SEATECH\, Examinateur\
 n- Trung Viet NGUYEN\, Professeur\, CKT\, Examinateur\n-\n-\nLien : theses
 .fr
CATEGORIES:Soutenance de thèse
END:VEVENT
BEGIN:VTIMEZONE
TZID:Europe/Paris
X-LIC-LOCATION:Europe/Paris
BEGIN:DAYLIGHT
DTSTART:20150329T030000
TZOFFSETFROM:+0100
TZOFFSETTO:+0200
TZNAME:CEST
END:DAYLIGHT
END:VTIMEZONE
END:VCALENDAR