BEGIN:VCALENDAR
VERSION:2.0
PRODID:-//wp-events-plugin.com//7.2.3.1//EN
TZID:Europe/Paris
X-WR-TIMEZONE:Europe/Paris
BEGIN:VEVENT
UID:7570@i2m.univ-amu.fr
DTSTART;TZID=Europe/Paris:20170424T110000
DTEND;TZID=Europe/Paris:20170424T130000
DTSTAMP:20241210T073031Z
URL:https://www.i2m.univ-amu.fr/evenements/modelisation-logique-pour-lanal
 yse-des-reseaux-de-regulation-biologiques-hdr-elisabeth-remy/
SUMMARY:Élisabeth Remy (I2M\, Aix-Marseille université): Modélisation lo
 gique pour l’analyse des réseaux de régulation biologiques
DESCRIPTION:Élisabeth Remy: https://www.sfbi.fr/node/11124\n\nLe jury est 
 composé de\n- Madalena Chaves\, INRIA Sophia-Antipolis\n- Florence Hubert
 \, Aix-Marseille Université\n- Hidde de Jong\, INRIA Grenoble - Rhône Al
 pes\n- Marcelline Kaufman\, Université Libre de Bruxelles\, Belgique\n- A
 nne Siegel\, IRISA Rennes\n- El Houssine Snoussi\, Université de Rabat\, 
 Maroc\n- Christophe Soulé\, IHES Paris\n- Denis Thieffry\, Institut de Bi
 ologie de l’ENS\, Paris (membre invité)\n-\nhttp://iml.univ-mrs.fr/~rem
 y/remy.html\n\nhttp://remy.perso.math.cnrs.fr/
ATTACH;FMTTYPE=image/jpeg:https://www.i2m.univ-amu.fr/wp-content/uploads/2
 020/01/Elisabeth_Remy-2017.jpg
CATEGORIES:Soutenance d'HdR,ALEA,MABioS
END:VEVENT
BEGIN:VTIMEZONE
TZID:Europe/Paris
X-LIC-LOCATION:Europe/Paris
BEGIN:DAYLIGHT
DTSTART:20170326T030000
TZOFFSETFROM:+0100
TZOFFSETTO:+0200
TZNAME:CEST
END:DAYLIGHT
END:VTIMEZONE
END:VCALENDAR