BEGIN:VCALENDAR
VERSION:2.0
PRODID:-//wp-events-plugin.com//7.2.3.1//EN
TZID:Europe/Paris
X-WR-TIMEZONE:Europe/Paris
BEGIN:VEVENT
UID:2072@i2m.univ-amu.fr
DTSTART;TZID=Europe/Paris:20171212T103000
DTEND;TZID=Europe/Paris:20171212T120000
DTSTAMP:20241209T220926Z
URL:https://www.i2m.univ-amu.fr/evenements/modelisation-mathematiques-de-l
 -impact-de-la-dynamique-des-microtubules-dans-la-migration-cellulaire/
SUMMARY:Rémi Tesson (I2M\, Aix-Marseille Université): Modélisation math
 ématiques de l'impact de la dynamique des microtubules dans la migration 
 cellulaire
DESCRIPTION:Rémi Tesson: *Directeurs de thèse :\n- Florence HUBERT\n- St
 éphane HONORÉ (co-directeur\, CRO2\, La Timone)\n\nLien : theses.fr
CATEGORIES:Soutenance de thèse,Analyse Appliquée
END:VEVENT
BEGIN:VTIMEZONE
TZID:Europe/Paris
X-LIC-LOCATION:Europe/Paris
BEGIN:STANDARD
DTSTART:20171029T020000
TZOFFSETFROM:+0200
TZOFFSETTO:+0100
TZNAME:CET
END:STANDARD
END:VTIMEZONE
END:VCALENDAR