BEGIN:VCALENDAR
VERSION:2.0
PRODID:-//wp-events-plugin.com//7.2.3.1//EN
TZID:Europe/Paris
X-WR-TIMEZONE:Europe/Paris
BEGIN:VEVENT
UID:8883@i2m.univ-amu.fr
DTSTART;TZID=Europe/Paris:20251028T140000
DTEND;TZID=Europe/Paris:20251028T150000
DTSTAMP:20251020T133352Z
URL:https://www.i2m.univ-amu.fr/evenements/moments-des-fonctions-l-carre-s
 ymetrique-de-gl3/
SUMMARY:Félicien Comtat (University of Bonn): Moments des fonctions L carr
 é symétrique de GL(3)
DESCRIPTION:Félicien Comtat: Avec Valentin Blomer\, nous donnons une formu
 le asymptotique pour le premier moment de la valeur au point central des 
 fonctions L carré symétrique de GL(3) dans l'aspect niveau\, ainsi qu'un
 e minoration pour tous les moments pairs qui est conforme aux prédictions
  de la théorie des matrices aléatoires. La preuve\, dont je donnerai un 
 aperçu\, combine des méthodes de théorie analytique des nombres et de t
 héorie des représentations.
CATEGORIES:Séminaire,AGLR,Représentations des Groupes Réductifs
LOCATION:I2M Luminy - TPR2\, Salle de Séminaire 304-306 (3ème étage)\, 1
 63 Avenue de Luminy\, Marseille\, 13009\, France
X-APPLE-STRUCTURED-LOCATION;VALUE=URI;X-ADDRESS=163 Avenue de Luminy\, Mars
 eille\, 13009\, France;X-APPLE-RADIUS=100;X-TITLE=I2M Luminy - TPR2\, Sall
 e de Séminaire 304-306 (3ème étage):geo:0,0
END:VEVENT
BEGIN:VTIMEZONE
TZID:Europe/Paris
X-LIC-LOCATION:Europe/Paris
BEGIN:STANDARD
DTSTART:20251026T020000
TZOFFSETFROM:+0200
TZOFFSETTO:+0100
TZNAME:CET
END:STANDARD
END:VTIMEZONE
END:VCALENDAR