BEGIN:VCALENDAR
VERSION:2.0
PRODID:-//wp-events-plugin.com//7.2.3.1//EN
TZID:Europe/Paris
X-WR-TIMEZONE:Europe/Paris
BEGIN:VEVENT
UID:9063@i2m.univ-amu.fr
DTSTART;TZID=Europe/Paris:20260331T140000
DTEND;TZID=Europe/Paris:20260331T150000
DTSTAMP:20260329T105343Z
URL:https://www.i2m.univ-amu.fr/evenements/multiplicites-equivariantes-et-
 symetrie-miroir-pour-les-schemas-de-hilbert/
SUMMARY:Alexandre Minets (MPIM Bonn): Multiplicités équivariantes et sym
 étrie miroir pour les schémas de Hilbert
DESCRIPTION:Alexandre Minets: Le cône global nilpotent d’une courbe proj
 ective lisse est une variété très singulière \; par exemple\, ses comp
 osantes irréductibles ne sont pas réduites. Leurs multiplicités ont ét
 é calculées par Hausel-Hitchin pour les composantes de type (1\,…\,1).
  Plus curieusement encore\, ils ont montré que ces nombres admettent une 
 quantification\, appelée multiplicité équivariante. J’expliquerai com
 ment quantifier les multiplicités des autres composantes\, et en fait le 
 faire dans le cadre plus général des systèmes dits pré-intégrables pr
 opres. J’expliquerai ensuite ce qui se passe dans le cas particulier des
  schémas de Hilbert de points sur des surfaces elliptiques\, et interpré
 terai les multiplicités correspondantes du point de vue de la corresponda
 nce de Dolbeault-Langlands.
CATEGORIES:Séminaire,AGLR,Représentations des Groupes Réductifs
LOCATION:I2M Luminy - TPR2\, Salle de Séminaire 304-306 (3ème étage)\, 1
 63 Avenue de Luminy\, Marseille\, 13009\, France
X-APPLE-STRUCTURED-LOCATION;VALUE=URI;X-ADDRESS=163 Avenue de Luminy\, Mars
 eille\, 13009\, France;X-APPLE-RADIUS=100;X-TITLE=I2M Luminy - TPR2\, Sall
 e de Séminaire 304-306 (3ème étage):geo:0,0
END:VEVENT
BEGIN:VTIMEZONE
TZID:Europe/Paris
X-LIC-LOCATION:Europe/Paris
BEGIN:DAYLIGHT
DTSTART:20260329T030000
TZOFFSETFROM:+0100
TZOFFSETTO:+0200
TZNAME:CEST
END:DAYLIGHT
END:VTIMEZONE
END:VCALENDAR