BEGIN:VCALENDAR
VERSION:2.0
PRODID:-//wp-events-plugin.com//7.2.3.1//EN
TZID:Europe/Paris
X-WR-TIMEZONE:Europe/Paris
BEGIN:VEVENT
UID:5707@i2m.univ-amu.fr
DTSTART;TZID=Europe/Paris:20230309T170000
DTEND;TZID=Europe/Paris:20230309T180000
DTSTAMP:20241124T134314Z
URL:https://www.i2m.univ-amu.fr/evenements/non-commutative-differential-ge
 ometry-in-terms-of-stars/
SUMMARY:Axel Gastaldi (I2M\, AGLR-RGR): Non-commutative differential geomet
 ry in terms of stars
DESCRIPTION:Axel Gastaldi: During this presentation we will try to unify di
 fferent axes of mathematics by using the powerful tool of C*-algebras\, pl
 aying a crucial role in quantum mechanics. I will decompose the presentati
 on in few different parts. After a brief introduction highlighting the pri
 ncipal properties of these algebras\, we will first deal with measure theo
 ry by following the works of Von Neumann and Murray. Next\, we will give a
  sense to topological quotient and orbital spaces in terms of C*-algebras\
 , enriching the classical structure. Finally\, we will spend time on the c
 lassical and historical example of the space of Penrose tilings to illustr
 ate our purpose.\n&nbsp\;\n\n\n\nLe séminaire des doctorant⋅es de l'I2M
  et du CPT à Luminy regroupe chaque semaine les doctorant⋅es du site au
 tour d'un exposé plus ou moins (in)formel\, dans un cadre convivial. Il e
 st évidemment ouvert aux étudiant⋅es de master et aux doctorant⋅es d
 'autres laboratoires.\n\nC'est au rez-de-chaussée du bâtiment de « l'an
 cienne BU »\, dans la salle « Séminaire 2 » (au fond à gauche en sort
 ant de l'escalier si vous venez de l'étage\, au fond à droite si vous en
 trez par le rez-de-chaussée). Attention : l'entrée dans le labo nécessi
 te un badge. En cas de souci (de type : être bloqué⋅e dehors)\, appele
 r le 04 91 26 95 91.
ATTACH;FMTTYPE=image/jpeg:https://www.i2m.univ-amu.fr/wp-content/uploads/2
 018/07/SubTile2013_Penrose_Tiling_Rhombi.png
CATEGORIES:Séminaire,Rencontres doctorant⋅es I2M-CPT
LOCATION:I2M Luminy - Ancienne BU\, Salle Séminaire2 (RdC)\, 163 Avenue de
  Luminy\, 13009 Marseille\, France\, 
X-APPLE-STRUCTURED-LOCATION;VALUE=URI;X-ADDRESS=163 Avenue de Luminy\, 1300
 9 Marseille\, France\, ;X-APPLE-RADIUS=100;X-TITLE=I2M Luminy - Ancienne B
 U\, Salle Séminaire2 (RdC):geo:0,0
END:VEVENT
BEGIN:VTIMEZONE
TZID:Europe/Paris
X-LIC-LOCATION:Europe/Paris
BEGIN:STANDARD
DTSTART:20221030T020000
TZOFFSETFROM:+0200
TZOFFSETTO:+0100
TZNAME:CET
END:STANDARD
END:VTIMEZONE
END:VCALENDAR