BEGIN:VCALENDAR
VERSION:2.0
PRODID:-//wp-events-plugin.com//7.2.3.1//EN
TZID:Europe/Paris
X-WR-TIMEZONE:Europe/Paris
BEGIN:VEVENT
UID:5308@i2m.univ-amu.fr
DTSTART;TZID=Europe/Paris:20240905T140000
DTEND;TZID=Europe/Paris:20240905T150000
DTSTAMP:20240817T153258Z
URL:https://www.i2m.univ-amu.fr/evenements/on-p-adic-families-of-hilbert-e
 igenforms-passing-through-the-base-change-of-a-p-supercuspidal-newform/
SUMMARY:Atsushi Yamagami (Soka University): On p-adic families of Hilbert e
 igenforms passing through  the base change of a p-supercuspidal newform
DESCRIPTION:Atsushi Yamagami: Let p be an odd prime number. In this talk\, 
 I explain a construction of a p-adic analytic family of Hilbert eigenfor
 ms passing through the base change of a p-supercuspidal elliptic newform 
 with respect to a suitable real quadratiic field. Then\, if there is time
  left\, I also explain an application on a constuction of a non-de Rham 
 representation ''surrounded'' by de Rham representations.
CATEGORIES:Séminaire,Représentations des Groupes Réductifs
LOCATION:I2M Luminy - TPR2\, Salle de Séminaire 304-306 (3ème étage)\, 1
 63 Avenue de Luminy\, Marseille\, 13009\, France
X-APPLE-STRUCTURED-LOCATION;VALUE=URI;X-ADDRESS=163 Avenue de Luminy\, Mars
 eille\, 13009\, France;X-APPLE-RADIUS=100;X-TITLE=I2M Luminy - TPR2\, Sall
 e de Séminaire 304-306 (3ème étage):geo:0,0
END:VEVENT
BEGIN:VTIMEZONE
TZID:Europe/Paris
X-LIC-LOCATION:Europe/Paris
BEGIN:DAYLIGHT
DTSTART:20240331T030000
TZOFFSETFROM:+0100
TZOFFSETTO:+0200
TZNAME:CEST
END:DAYLIGHT
END:VTIMEZONE
END:VCALENDAR