BEGIN:VCALENDAR
VERSION:2.0
PRODID:-//wp-events-plugin.com//7.2.3.1//EN
TZID:Europe/Paris
X-WR-TIMEZONE:Europe/Paris
BEGIN:VEVENT
UID:2049@i2m.univ-amu.fr
DTSTART;TZID=Europe/Paris:20171205T110000
DTEND;TZID=Europe/Paris:20171205T120000
DTSTAMP:20171120T100000Z
URL:https://www.i2m.univ-amu.fr/evenements/ondelettes-entremelees/
SUMMARY: (...): Ondelettes entremêlées
DESCRIPTION:: Nous utilisons des forêts couvrantes aléatoires sur un grap
 he ou maillage fini arbitraireafin de construire des solutions approchées
 \, et à mesures liantes localisées\, de certaines équations d'entremêl
 ement entre processus Markoviens. Cela nous permet de définir une version
  basse résolution du réseau original en même temps qu'une base d'ondele
 ttes et de fonctions d'échelles pour les signaux sur ce réseau. L'analys
 e multirésolution qui en découle conduit à la construction d'un algorit
 hme numériquement stable pour la compression et l'analyse de tels signaux
 . Il s'agit d'un travail en commun avec L. Avena\, F. Castell et C. Mélot
 .Webpage
CATEGORIES:Séminaire,Analyse Appliquée
END:VEVENT
BEGIN:VTIMEZONE
TZID:Europe/Paris
X-LIC-LOCATION:Europe/Paris
BEGIN:STANDARD
DTSTART:20171029T020000
TZOFFSETFROM:+0200
TZOFFSETTO:+0100
TZNAME:CET
END:STANDARD
END:VTIMEZONE
END:VCALENDAR