BEGIN:VCALENDAR
VERSION:2.0
PRODID:-//wp-events-plugin.com//7.2.3.1//EN
TZID:Europe/Paris
X-WR-TIMEZONE:Europe/Paris
BEGIN:VEVENT
UID:8407@i2m.univ-amu.fr
DTSTART;TZID=Europe/Paris:20140407T093000
DTEND;TZID=Europe/Paris:20140407T103000
DTSTAMP:20241120T210403Z
URL:https://www.i2m.univ-amu.fr/evenements/operateurs-de-composition-sur-l
 es-espaces-de-hardy-generalises-de-lanneau/
SUMMARY:Elodie Pozzi (LPP\, Université de Lille): Opérateurs de compositi
 on sur les espaces de Hardy généralisés de l'anneau
DESCRIPTION:Elodie Pozzi: Dans cet exposé\, on s'intéresse à l'action de
  l'opérateur de composition (à droite) sur l'espace de Hardy généralis
 é de l'anneau\, espace de solutions de ∂f = ν∂f au sens des distribu
 tions dans l'anneau. Nous verrons comment exploiter le lien entre ces espa
 ces et la classe des fonctions analytiques donnée par l'espace de Hardy d
 e l'anneau pour l'étude de l'opérateur de composition. Plus précisémen
 t\, après avoir fixé les hypothèses sur la fonction de composition pour
  garantir la continuité de l'opérateur\, nous nous intéresserons aux pr
 opriétés de cet opérateur. Il s'agit d'un travail qui a commencé par u
 n travail en collaboration avec S. Elliott et qui s'est poursuivi avec J. 
 Leblond et E. Russ. \nComposition operators on the generalized Hardy space
 s of the ring \nIn this talk\, we are interested in the action of the comp
 osition operator (on the right) on the generalized Hardy space of the ring
 \, space of solutions of ∂f = ν∂f in the sense of the distributions i
 n the ring. We will see how to exploit the link between these spaces and t
 he class of analytical functions given by the Hardy space of the ring for 
 the study of the composition operator. More precisely\, after having fixed
  the assumptions on the function of composition to guarantee the continuit
 y of the operator\, we will be interested in the properties of this operat
 or. This is a work that began with a collaborative work with S. Elliott an
 d continued with J. Leblond and E. Russ.\nhttps://hal.archives-ouvertes.fr
 /hal-01242032v2\n\n&nbsp\;
ATTACH;FMTTYPE=image/jpeg:https://www.i2m.univ-amu.fr/wp-content/uploads/2
 021/04/Elodie_Pozzi.jpg
CATEGORIES:Séminaire,Analyse et Géométrie
END:VEVENT
BEGIN:VTIMEZONE
TZID:Europe/Paris
X-LIC-LOCATION:Europe/Paris
BEGIN:DAYLIGHT
DTSTART:20140330T030000
TZOFFSETFROM:+0100
TZOFFSETTO:+0200
TZNAME:CEST
END:DAYLIGHT
END:VTIMEZONE
END:VCALENDAR