BEGIN:VCALENDAR
VERSION:2.0
PRODID:-//wp-events-plugin.com//7.2.3.1//EN
TZID:Europe/Paris
X-WR-TIMEZONE:Europe/Paris
BEGIN:VEVENT
UID:3694@i2m.univ-amu.fr
DTSTART;TZID=Europe/Paris:20210309T110000
DTEND;TZID=Europe/Paris:20210309T120000
DTSTAMP:20210222T095600Z
URL:https://www.i2m.univ-amu.fr/evenements/philippe-helluy-universite-de-s
 trasbourg-tba/
SUMMARY: (...): Philippe HELLUY - Université de Strasbourg - TBA
DESCRIPTION:: 
CATEGORIES:Séminaire,Analyse Appliquée
END:VEVENT
BEGIN:VTIMEZONE
TZID:Europe/Paris
X-LIC-LOCATION:Europe/Paris
BEGIN:STANDARD
DTSTART:20201025T020000
TZOFFSETFROM:+0200
TZOFFSETTO:+0100
TZNAME:CET
END:STANDARD
END:VTIMEZONE
END:VCALENDAR