BEGIN:VCALENDAR
VERSION:2.0
PRODID:-//wp-events-plugin.com//7.2.3.1//EN
TZID:Europe/Paris
X-WR-TIMEZONE:Europe/Paris
BEGIN:VEVENT
UID:7150@i2m.univ-amu.fr
DTSTART;TZID=Europe/Paris:20190110T180000
DTEND;TZID=Europe/Paris:20190110T200000
DTSTAMP:20241213T101327Z
URL:https://www.i2m.univ-amu.fr/evenements/pourquoi-il-faut-faire-des-math
 s/
SUMMARY:François Hamel (Université d'Avignon): Pourquoi il faut faire des
  maths ?
DESCRIPTION:François Hamel: Une étude récente sur l’impact socio-écon
 omique des mathématiques a estimé à 9% le total des emplois impliquant 
 les mathématiques en France et à 15% la valeur ajoutée apportée par le
 s mathématiques dans le PIB de la France. Les mathématiques sont présen
 tes dans de nombreux secteurs d’activités\, comme l’aéronautique\, l
 ’énergie\, l’environnement\, la finance\, la santé\, les transports\
 , etc. Les mathématiques sont un moteur de l’innovation et les méthode
 s\, idées et calculs mathématiques contribuent au développement industr
 iel et technologique en association avec des disciplines telles que la phy
 sique\, la biologie\, la médecine\, ou les sciences humaines. Sans en fai
 re son métier\, des notions élémentaires en mathématiques sont égalem
 ent utiles dans la vie quotidienne. Les mathématiques ont un côté ludiq
 ue et des règles simples permettent de surmonter d’éventuelles appréh
 ensions.\nConférencier : François HAMEL\n\nLieu :\nUniversité d’Avign
 on\nCampus Hannah Arendt – Centre ville – Amphi AT01\n74\, rue Louis P
 asteur\n
ATTACH;FMTTYPE=image/jpeg:https://www.i2m.univ-amu.fr/wp-content/uploads/2
 021/05/Francois_Hamel.png
CATEGORIES:Conférence,Diffusion,Grand Public
LOCATION:Université d'Avignon\, Université d'Avignon\, Avignon\, 84029\, 
 France
X-APPLE-STRUCTURED-LOCATION;VALUE=URI;X-ADDRESS=Université d'Avignon\, Avi
 gnon\, 84029\, France;X-APPLE-RADIUS=100;X-TITLE=Université d'Avignon:geo
 :0,0
END:VEVENT
BEGIN:VTIMEZONE
TZID:Europe/Paris
X-LIC-LOCATION:Europe/Paris
BEGIN:STANDARD
DTSTART:20181028T020000
TZOFFSETFROM:+0200
TZOFFSETTO:+0100
TZNAME:CET
END:STANDARD
END:VTIMEZONE
END:VCALENDAR