BEGIN:VCALENDAR
VERSION:2.0
PRODID:-//wp-events-plugin.com//7.2.3.1//EN
TZID:Europe/Paris
X-WR-TIMEZONE:Europe/Paris
BEGIN:VEVENT
UID:6540@i2m.univ-amu.fr
DTSTART;TZID=Europe/Paris:20210212T140000
DTEND;TZID=Europe/Paris:20210212T160000
DTSTAMP:20241209T192150Z
URL:https://www.i2m.univ-amu.fr/evenements/prediction-statistique-de-chemi
 ns-de-fissuration-application-au-materiau-cimentaire-kathleen-pele/
SUMMARY:Kathleen Pele (I2M\, Aix-Marseille Université & IRSN): Prédiction
  statistique de chemins de fissuration : application au matériau cimentai
 re
DESCRIPTION:Kathleen Pele: Sous la direction de Jacques Liandrat et de Loï
 c Daridon.\n\nThèse en préparation à l'Ecole centrale de Marseille \, d
 ans le cadre de  Ecole Doctorale Mathématiques et Informatique de Marseil
 le (Marseille) \, en partenariat avec  Institut de mathématiques de Marse
 ille (laboratoire) depuis le 16-10-2017 .\nLe prolongement de la durée d
 ’exploitation des centrales nucléaires françaises soulève de nombreus
 es questions de recherche sur le vieillissement des ouvrages de génie civ
 il nucléaire. Les phénomènes intervenant lors de ce vieillissement sont
  susceptibles en particulier de dégrader le béton et de conduire à l’
 apparition de fissures dans les structures touchées. Afin d'étudier leur
 s conséquences sur la structure\, des simulations numériques à l’aide
  de codes de calcul complexes sont réalisées. Cependant\, chaque simulat
 ion est coûteuse en temps calcul\, ce qui est un frein dans les applicati
 ons industrielles nécessitant un grand nombre de simulations. Pour limite
 r les coûts\, on propose dans ce travail la construction d’un modèle m
 athématique à base de chaîne de Markov rapide à évaluer pour la préd
 iction de chemins de fissuration afin d’éviter un appel au code de calc
 ul. Une analyse de ses performances est ensuite faite et montre la cohére
 nce entre les informations fournies par le modèle et les fissures simulé
 es par le code de calcul (code Xper dans notre étude). De plus\, le temps
  de calcul de l’étude est significativement réduit par rapport à une 
 simulation Xper. Le nouveau modèle est enfin appliqué avec succès sur u
 ne expérience classique dans le domaine des matériaux cimentaires\, une 
 poutre en flexion trois points. La mise en œuvre de cette étude nécessi
 te le couplage avec un code mécanique Eléments Finis.​\nStatistical pr
 ediction of cracking paths: application to cementitious material.\nThe ext
 ension of the operating life of French nuclear power plants raises many re
 search questions on the aging of nuclear civil engineering structures. The
  phenomena occurring during this aging are particularly likely to degrade 
 the concrete and lead to the appearance of cracks in the structures affect
 ed. In order to study their consequences on the structure\, numerical simu
 lations using complex computer codes are carried out. However\, each simul
 ation is costly in computing time\, which is a brake in industrial applica
 tions requiring a large number of simulations. To limit the costs\, we pro
 pose in this work the construction of a mathematical model based on a Mark
 ov chain fast to evaluate for the prediction of cracking paths in order to
  avoid a call to the computer code. An analysis of its performance is then
  made and shows the consistency between the information provided by the mo
 del and the cracks simulated by the computer code (Xper code in our study)
 . In addition\, the calculation time of the study is significantly reduced
  compared to an Xper simulation. The new model is finally successfully app
 lied on a classic experiment in the field of cementitious materials\, a th
 ree-point bending beam. The implementation of this study requires the coup
 ling with a mechanical code Finite Elements.\nhttps://www.irsn.fr/FR/Larec
 herche/Formation_recherche/Theses/Theses-soutenues/PSN-RES/Pages/2021-PELE
 -Prediction-statistique-chemins-fissuration-application-materiau-cimentair
 e.aspx#.YC6Q8GPjIWp
ATTACH;FMTTYPE=image/jpeg:https://www.i2m.univ-amu.fr/wp-content/uploads/2
 021/02/Kathleen_Pele.jpg
CATEGORIES:Soutenance de thèse,Analyse Appliquée
END:VEVENT
BEGIN:VTIMEZONE
TZID:Europe/Paris
X-LIC-LOCATION:Europe/Paris
BEGIN:STANDARD
DTSTART:20201025T020000
TZOFFSETFROM:+0200
TZOFFSETTO:+0100
TZNAME:CET
END:STANDARD
END:VTIMEZONE
END:VCALENDAR