BEGIN:VCALENDAR
VERSION:2.0
PRODID:-//wp-events-plugin.com//7.2.3.1//EN
TZID:Europe/Paris
X-WR-TIMEZONE:Europe/Paris
BEGIN:VEVENT
UID:7435@i2m.univ-amu.fr
DTSTART;TZID=Europe/Paris:20171204T133000
DTEND;TZID=Europe/Paris:20171204T143000
DTSTAMP:20241120T203952Z
URL:https://www.i2m.univ-amu.fr/evenements/quelques-graphes-qui-intervienn
 ent-dans-la-mecanique-statistique-en-une-dimension-pierre-picco/
SUMMARY:Pierre Picco (I2M\, CNRS\, Marseille): Quelques graphes qui intervi
 ennent dans la mécanique statistique en une dimension - Pierre Picco
DESCRIPTION:Pierre Picco: Dans certains modèles de Mécanique Statistique 
 des arbres correspondant à des partitions de configurations apparaissent.
  La construction de ces partitions pourrait intéresser les gens des bio-m
 ath.\n\nLors de l'étude de dynamiques conservatives de ces modèles\, de 
 nouveau graphes interviennent qui pourraient aussi offrir quelques intér
 êts pour les mêmes personnes.\n\n\n
ATTACH;FMTTYPE=image/jpeg:https://www.i2m.univ-amu.fr/wp-content/uploads/2
 020/01/Pierre_Picco.jpg
CATEGORIES:Séminaire,MABioS
END:VEVENT
BEGIN:VTIMEZONE
TZID:Europe/Paris
X-LIC-LOCATION:Europe/Paris
BEGIN:STANDARD
DTSTART:20171029T020000
TZOFFSETFROM:+0200
TZOFFSETTO:+0100
TZNAME:CET
END:STANDARD
END:VTIMEZONE
END:VCALENDAR