BEGIN:VCALENDAR
VERSION:2.0
PRODID:-//wp-events-plugin.com//7.2.3.1//EN
TZID:Europe/Paris
X-WR-TIMEZONE:Europe/Paris
BEGIN:VEVENT
UID:8437@i2m.univ-amu.fr
DTSTART;TZID=Europe/Paris:20140317T111500
DTEND;TZID=Europe/Paris:20140317T121500
DTSTAMP:20241120T210413Z
URL:https://www.i2m.univ-amu.fr/evenements/quels-domaines-convexes-lisses-
 de-%e2%84%82n-sont-hyperboliques-au-sens-de-gromov/
SUMMARY:Hervé Gaussier (Institut Fourier\, Université Grenoble Alpes\, à
  Grenoble): Quels domaines convexes\, lisses\, de ℂ^n sont hyperboliques
  au sens de Gromov ?
DESCRIPTION:Hervé Gaussier: Nous donnerons des exemples de domaines lisses
 \, convexes\, mais non strictement pseudoconvexes\, hyperboliques au sens 
 de Gromov\, ainsi que des exemples de domaines lisses\, convexes\, qui ne 
 sont pas hyperboliques au sens de Gromov. C'est un travail en commun avec 
 Harish Seshadri (Indian Institute of Science\, Bangalore). \nWhich smooth\
 , convex domains of ℂ^n are hyperbolic in the sense of Gromov?\nWe will 
 give examples of smooth\, convex domains\, but not strictly pseudoconvex\,
  hyperbolic in the sense of Gromov\, as well as examples of smooth\, conve
 x domains\, which are not hyperbolic in the sense of Gromov. It is a joint
  work with Harish Seshadri (Indian Institute of Science\, Bangalore).\n
ATTACH;FMTTYPE=image/jpeg:https://www.i2m.univ-amu.fr/wp-content/uploads/2
 020/01/Herve_Gaussier.jpg
CATEGORIES:Séminaire,Analyse et Géométrie
END:VEVENT
BEGIN:VTIMEZONE
TZID:Europe/Paris
X-LIC-LOCATION:Europe/Paris
BEGIN:STANDARD
DTSTART:20131027T020000
TZOFFSETFROM:+0200
TZOFFSETTO:+0100
TZNAME:CET
END:STANDARD
END:VTIMEZONE
END:VCALENDAR