BEGIN:VCALENDAR
VERSION:2.0
PRODID:-//wp-events-plugin.com//7.2.3.1//EN
TZID:Europe/Paris
X-WR-TIMEZONE:Europe/Paris
BEGIN:VEVENT
UID:8166@i2m.univ-amu.fr
DTSTART;TZID=Europe/Paris:20150216T000000
DTEND;TZID=Europe/Paris:20150220T000000
DTSTAMP:20241222T122338Z
URL:https://www.i2m.univ-amu.fr/evenements/real-singularities-and-applicat
 ions-thematic-month-2015/
SUMMARY: (...): Real Singularities and Applications (Thematic Month 2015)
DESCRIPTION:: Mois Thématique : [Singularités réelles et applications (3
 ème semaine)\n-\nL’étude des singularités réelles est un domaine de 
 recherche très actif actuellement avec de nombreuses questions ouvertes d
 ifficiles. Il comprend les thèmes principaux suivants : géométrie semi-
 algébrique\, structures o-minimales et théorie des modèles\, singularit
 és en géométrie différentielle\, caustiques et fronts d’onde.\n-\nOr
 ganisateurs :\n- Nicolas Dutertre (I2M\, Marseille)\n- David Trotman (I2M\
 , Marseille)\n-\n\nSite web de la 3ème rencontre\n-\nAutre lien : CIRM
CATEGORIES:Colloque,Mois thématique
LOCATION:Luminy - CIRM\, 163 Avenue de Luminy\, Marseille\, 13009\, France
X-APPLE-STRUCTURED-LOCATION;VALUE=URI;X-ADDRESS=163 Avenue de Luminy\, Mars
 eille\, 13009\, France;X-APPLE-RADIUS=100;X-TITLE=Luminy - CIRM:geo:0,0
END:VEVENT
BEGIN:VTIMEZONE
TZID:Europe/Paris
X-LIC-LOCATION:Europe/Paris
BEGIN:STANDARD
DTSTART:20141026T020000
TZOFFSETFROM:+0200
TZOFFSETTO:+0100
TZNAME:CET
END:STANDARD
END:VTIMEZONE
END:VCALENDAR