BEGIN:VCALENDAR
VERSION:2.0
PRODID:-//wp-events-plugin.com//7.2.3.1//EN
TZID:Europe/Paris
X-WR-TIMEZONE:Europe/Paris
BEGIN:VEVENT
UID:7769@i2m.univ-amu.fr
DTSTART;TZID=Europe/Paris:20160704T000000
DTEND;TZID=Europe/Paris:20160708T000000
DTSTAMP:20241216T084232Z
URL:https://www.i2m.univ-amu.fr/evenements/school-of-biology-for-students-
 in-mathematics-and-computer-scientists/
SUMMARY:School (CIRM\, Luminy\, Marseille): School of Biology for Students 
 in Mathematics and Computer Scientists
DESCRIPTION:School: \n\n\nEcole d’été\nSchool of Biology for Students i
 n Mathematics and Computer Scientists\n\n\n\n\n\nOrganisation :\n\n\n\nHub
 ert Florence(I2M\, Marseille)Pardoux Étienne(I2M\, Marseille)Röder Laure
 nce(IBDM\, Marseille)\n\n\n
CATEGORIES:École ou Master class
END:VEVENT
BEGIN:VTIMEZONE
TZID:Europe/Paris
X-LIC-LOCATION:Europe/Paris
BEGIN:DAYLIGHT
DTSTART:20160327T030000
TZOFFSETFROM:+0100
TZOFFSETTO:+0200
TZNAME:CEST
END:DAYLIGHT
END:VTIMEZONE
END:VCALENDAR