BEGIN:VCALENDAR
VERSION:2.0
PRODID:-//wp-events-plugin.com//7.2.3.1//EN
TZID:Europe/Paris
X-WR-TIMEZONE:Europe/Paris
BEGIN:VEVENT
UID:7768@i2m.univ-amu.fr
DTSTART;TZID=Europe/Paris:20160704T000000
DTEND;TZID=Europe/Paris:20160715T000000
DTSTAMP:20241216T084144Z
URL:https://www.i2m.univ-amu.fr/evenements/school-on-algebraic-geometric-a
 nd-probabilistic-aspect-of-dynamical-systems-and-control-theory/
SUMMARY:School (ICTP\, Trieste\, Italia): School on Algebraic\, Geometric a
 nd Probabilistic Aspect of Dynamical Systems and Control Theory
DESCRIPTION:School: Analyzing the interplay between different sub areas of 
 mathematics is one of the fascinating goals of researchers in this area. T
 he ideas from probability theory and algebra are ubiquitous in ergodic the
 ory of dynamical systems. The deep works of many dynamicists had proved th
 e power of ergodic theory methods to solve celebrated problems in number t
 heory and algebra. The aim of this workshop is to gather some of the exper
 ts of these areas and discuss recent developments with mostly young resear
 chers.\nThe workshop will consist of long courses\, invited and contribute
 d talks\, as well as an open problem session and a poster session.The idea
  is to have sufficient time to have discussion sections with students and 
 post-docs and help young researchers to define new projects.\n-\n&nbsp\;\n
 \nCONFERENCE PHOTOS[metaslider id="36845"]\n-\nPoster\nOrganizers\n- Andre
 i Agrachev (ISAS\, Trieste)\n- Alexander Bufetov (I2M\, Marseille)\n- Stef
 ano Luzzatto (ICTP\, Trieste)\n- Yakov Pesin (Penn State\, USA)\n- Ali Tah
 zibi (USP\, Sao Paulo)\n- Vladlen Timorin (HSE\, Moscou)\n-\nThis project 
 has received funding from the European Research Council (ERC) under the Eu
 ropean Union's Horizon 2020 research and innovation programme under grant 
 agreement No 647133 (ICHAOS).\n\n-
ATTACH;FMTTYPE=image/jpeg:https://www.i2m.univ-amu.fr/wp-content/uploads/2
 016/07/image_gdac-doi10.1007_s10711-015-0124-2-hyperbolic_plane-fig.3-bufe
 tov.jpg
CATEGORIES:École ou Master class,Workshop
END:VEVENT
BEGIN:VTIMEZONE
TZID:Europe/Paris
X-LIC-LOCATION:Europe/Paris
BEGIN:DAYLIGHT
DTSTART:20160327T030000
TZOFFSETFROM:+0100
TZOFFSETTO:+0200
TZNAME:CEST
END:DAYLIGHT
END:VTIMEZONE
END:VCALENDAR