BEGIN:VCALENDAR
VERSION:2.0
PRODID:-//wp-events-plugin.com//7.2.3.1//EN
TZID:Europe/Paris
X-WR-TIMEZONE:Europe/Paris
BEGIN:VEVENT
UID:2393@i2m.univ-amu.fr
DTSTART;TZID=Europe/Paris:20180618T140000
DTEND;TZID=Europe/Paris:20180618T150000
DTSTAMP:20180603T120000Z
URL:https://www.i2m.univ-amu.fr/evenements/seminaire-mathematiques-et-algo
 rithmique-pour-la-biologie-des-systemes-mabios/
SUMMARY: (...): Séminaire Mathématiques et Algorithmique pour la Biologie
  des Systèmes (MABioS)
DESCRIPTION:: Neuro-inspired predictive control for robotic sensorimotor sy
 stems (and other stories)
END:VEVENT
BEGIN:VTIMEZONE
TZID:Europe/Paris
X-LIC-LOCATION:Europe/Paris
BEGIN:DAYLIGHT
DTSTART:20180325T030000
TZOFFSETFROM:+0100
TZOFFSETTO:+0200
TZNAME:CEST
END:DAYLIGHT
END:VTIMEZONE
END:VCALENDAR