BEGIN:VCALENDAR
VERSION:2.0
PRODID:-//wp-events-plugin.com//7.2.3.1//EN
TZID:Europe/Paris
X-WR-TIMEZONE:Europe/Paris
BEGIN:VEVENT
UID:5269@i2m.univ-amu.fr
DTSTART;TZID=Europe/Paris:20241108T110000
DTEND;TZID=Europe/Paris:20241108T120000
DTSTAMP:20241017T145638Z
URL:https://www.i2m.univ-amu.fr/evenements/seminaire-rauzy-2024-11-08/
SUMMARY:Carlos Matheus (centre de mathématiques Laurent Schwartz\, École 
 polytechnique): Selberg\, Ihara et Berkovich
DESCRIPTION:Carlos Matheus: En 1998\, McMullen a étudié la vitesse de con
 vergence vers zéro de la dimension de Hausdorff des ensembles limites d'u
 ne famille de Schottky particulèrement symétrique. En 2024\, Dang et Meh
 meti ont expliqué (et étendu) les résultats de McMullen grace à l'étu
 de des séries de Poincaré dans les espaces de Berkovich. Dans cet expos
 é\, on discutera un raffinement de ces résultats basé sur l'étude des 
 fonctions zeta de Selberg et ses analogues (dites de Ihara) sur les graphe
 s métriques finis. Il s'agit d'un travail en collaboration avec Jialun Li
 \, Wenyu Pan et Zhongkai Tao. \n\n
CATEGORIES:Séminaire,Rauzy
LOCATION:Saint-Charles - FRUMAM  (2ème étage)\, 3 Place Victor Hugo\, Mar
 seille\, 13003\, France
X-APPLE-STRUCTURED-LOCATION;VALUE=URI;X-ADDRESS=3 Place Victor Hugo\, Marse
 ille\, 13003\, France;X-APPLE-RADIUS=100;X-TITLE=Saint-Charles - FRUMAM  (
 2ème étage):geo:0,0
END:VEVENT
BEGIN:VTIMEZONE
TZID:Europe/Paris
X-LIC-LOCATION:Europe/Paris
BEGIN:STANDARD
DTSTART:20241027T020000
TZOFFSETFROM:+0200
TZOFFSETTO:+0100
TZNAME:CET
END:STANDARD
END:VTIMEZONE
END:VCALENDAR