BEGIN:VCALENDAR
VERSION:2.0
PRODID:-//wp-events-plugin.com//7.2.3.1//EN
TZID:Europe/Paris
X-WR-TIMEZONE:Europe/Paris
BEGIN:VEVENT
UID:5278@i2m.univ-amu.fr
DTSTART;TZID=Europe/Paris:20250110T110000
DTEND;TZID=Europe/Paris:20250110T120000
DTSTAMP:20241202T171023Z
URL:https://www.i2m.univ-amu.fr/evenements/seminaire-rauzy-2025-01-10-2/
SUMMARY:Chloé PÉRIN (Einstein Institute for Mathematics\,Université héb
 raïque de Jérusalem et i2m\, université d'Aix-Marseille): Séminaire Ra
 uzy
DESCRIPTION:Chloé PÉRIN: Chloé PÉRIN\, Groupes algébriques au-dessus d
 es groupes libres\nEn géométrie algébrique élémentaire\, étant donn
 é un corps K\, on peut définir un groupe algébrique comme une variété
  de K^n (c’est à dire l’ensemble des solutions à un système d’éq
 uations polynomiales) munie d’une loi de groupe qui s’exprime par des 
 polynômes en les coordonnées. On peut se demander ce qui se passe si l
 ’on remplace le corps K par un groupe G:\nl’analogue d’un polynôme 
 est un mot w(x_1\, …\, x_n) dans lequel peuvent figurer des constantes p
 rovenant de G. Une variété de G^n est l’ensemble des solutions à un s
 ystème d’équations de la forme w_i(x_1\, …\, x_n)=1\, et un groupe a
 lgébrique au-dessus de G une variété de G^n munie d’une loi qui peut 
 être exprimée par des mots en les coordonnées.\nSur les groupes libres 
 (non-abéliens)\, les variétés sont bien comprises depuis les travaux de
  Makanin-Razborov et plus tard Sela.\nDans un travail en commun avec Vince
 nt Guirardel\, nous montrons qu’il y a très peu de groupes algébriques
  irréductibles au-dessus du groupe libre\, et nous décrivons toutes les 
 structures possibles.
CATEGORIES:Séminaire,Rauzy
LOCATION:Saint-Charles - FRUMAM  (2ème étage)\, 3 Place Victor Hugo\, Mar
 seille\, 13003\, France
X-APPLE-STRUCTURED-LOCATION;VALUE=URI;X-ADDRESS=3 Place Victor Hugo\, Marse
 ille\, 13003\, France;X-APPLE-RADIUS=100;X-TITLE=Saint-Charles - FRUMAM  (
 2ème étage):geo:0,0
END:VEVENT
BEGIN:VTIMEZONE
TZID:Europe/Paris
X-LIC-LOCATION:Europe/Paris
BEGIN:STANDARD
DTSTART:20241027T020000
TZOFFSETFROM:+0200
TZOFFSETTO:+0100
TZNAME:CET
END:STANDARD
END:VTIMEZONE
END:VCALENDAR