BEGIN:VCALENDAR
VERSION:2.0
PRODID:-//wp-events-plugin.com//7.2.3.1//EN
TZID:Europe/Paris
X-WR-TIMEZONE:Europe/Paris
BEGIN:VEVENT
UID:4527@i2m.univ-amu.fr
DTSTART;TZID=Europe/Paris:20221209T143000
DTEND;TZID=Europe/Paris:20221209T153000
DTSTAMP:20221129T095213Z
URL:https://www.i2m.univ-amu.fr/evenements/seminaire-signal-et-apprentissa
 ge-thomas-schatz-tba/
SUMMARY:Thomas Schatz (LIS\, Aix-Marseille Université): Séminaire Signal 
 et Apprentissage - Thomas Schatz - TBA
DESCRIPTION:Thomas Schatz: TBA
ATTACH;FMTTYPE=image/jpeg:https://www.i2m.univ-amu.fr/wp-content/uploads/2
 022/10/Thomas_Schatz.png
CATEGORIES:Séminaire,Signal et Apprentissage
LOCATION:I2M Chateau-Gombert - CMI\, 39 Rue Joliot Curie\, Marseille\, 1301
 3\, France
X-APPLE-STRUCTURED-LOCATION;VALUE=URI;X-ADDRESS=39 Rue Joliot Curie\, Marse
 ille\, 13013\, France;X-APPLE-RADIUS=100;X-TITLE=I2M Chateau-Gombert - CMI
 :geo:0,0
END:VEVENT
BEGIN:VTIMEZONE
TZID:Europe/Paris
X-LIC-LOCATION:Europe/Paris
BEGIN:STANDARD
DTSTART:20221030T020000
TZOFFSETFROM:+0200
TZOFFSETTO:+0100
TZNAME:CET
END:STANDARD
END:VTIMEZONE
END:VCALENDAR