BEGIN:VCALENDAR
VERSION:2.0
PRODID:-//wp-events-plugin.com//7.2.3.1//EN
TZID:Europe/Paris
X-WR-TIMEZONE:Europe/Paris
BEGIN:VEVENT
UID:2047@i2m.univ-amu.fr
DTSTART;TZID=Europe/Paris:20171205T000000
DTEND;TZID=Europe/Paris:20171205T000000
DTSTAMP:20241209T221053Z
URL:https://www.i2m.univ-amu.fr/evenements/simulation-numerique-d-ecouleme
 nts-diphasiques-en-regime-compressible-ou-a-faible-nombre-de-mach/
SUMMARY:Sophie Dallet (I2M\, Aix-Marseille Université): Simulation numéri
 que d'écoulements diphasiques en régime compressible ou à faible nombre
  de Mach
DESCRIPTION:Sophie Dallet: *Membres du jury (liste partielle):\nM. Thierry 
 GALLOUËT - Professeur\, Aix-Marseille Université - Codirecteur\nM. Jean-
 Marc HÉRARD - Ingénieur EDF Chatou - Directeur\n\nLiens :\n- theses.fr\n
 - ED184
CATEGORIES:Soutenance de thèse,Analyse Appliquée
END:VEVENT
BEGIN:VTIMEZONE
TZID:Europe/Paris
X-LIC-LOCATION:Europe/Paris
BEGIN:STANDARD
DTSTART:20171029T020000
TZOFFSETFROM:+0200
TZOFFSETTO:+0100
TZNAME:CET
END:STANDARD
END:VTIMEZONE
END:VCALENDAR