BEGIN:VCALENDAR
VERSION:2.0
PRODID:-//wp-events-plugin.com//7.2.3.1//EN
TZID:Europe/Paris
X-WR-TIMEZONE:Europe/Paris
BEGIN:VEVENT
UID:6589@i2m.univ-amu.fr
DTSTART;TZID=Europe/Paris:20210107T140000
DTEND;TZID=Europe/Paris:20210107T160000
DTSTAMP:20241209T192245Z
URL:https://www.i2m.univ-amu.fr/evenements/singularites-feuilletages-et-ap
 plications-a-la-geometrie-quasi-analytique-et-sous-riemannienne-hdr-andre-
 belotto/
SUMMARY:André Belotto da Silva (I2M\, Aix-Marseille Université): Singular
 ités\, feuilletages et applications à la géométrie quasi-analytique et
  sous-riemannienne
DESCRIPTION:André Belotto da Silva: Le mémoire est intitulé "Singularit
 és\, feuilletages et applications à la géométrie quasi-analytique et s
 ous-riemannienne"  se trouve ici: https://andrebelotto.files.wordpress.
 com/2021/01/hdr-belotto.pdf\n\nLes membres du jury sont :\n- Felipe Cano (
 Rapporteur) Universidad de Valladolid\;\n- Raf Cluckers (Rapporteur)  Un
 iversité de Lille\;\n- Charles Favre (Examinateur) Ecole Polytechnique\;\
 n- Alessio Figalli (Examinateur) ETH Zurich\;\n- Pierre Pansu (Président)
  Université Paris-Saclay\;\n- Anne Pichon (Examinatrice) Aix-Marseille Un
 iversité\;\n- Patrick Popescu-Pampu (Rapporteur) Université de Lille\;\n
 - Xavier Roulleau (Examinateur) Aix-Marseille Université.
ATTACH;FMTTYPE=image/jpeg:https://www.i2m.univ-amu.fr/wp-content/uploads/2
 020/01/Andre_Belotto_da_Silva.jpg
CATEGORIES:Soutenance d'HdR,AGT
END:VEVENT
BEGIN:VTIMEZONE
TZID:Europe/Paris
X-LIC-LOCATION:Europe/Paris
BEGIN:STANDARD
DTSTART:20201025T020000
TZOFFSETFROM:+0200
TZOFFSETTO:+0100
TZNAME:CET
END:STANDARD
END:VTIMEZONE
END:VCALENDAR