BEGIN:VCALENDAR
VERSION:2.0
PRODID:-//wp-events-plugin.com//7.2.3.1//EN
TZID:Europe/Paris
X-WR-TIMEZONE:Europe/Paris
BEGIN:VEVENT
UID:2073@i2m.univ-amu.fr
DTSTART;TZID=Europe/Paris:20171212T103000
DTEND;TZID=Europe/Paris:20171212T120000
DTSTAMP:20171127T093000Z
URL:https://www.i2m.univ-amu.fr/evenements/soutenance-de-these-de-remi-tes
 son/
SUMMARY: (...): Soutenance de thèse de Rémi Tesson
DESCRIPTION:: 
CATEGORIES:Séminaire,Analyse Appliquée
END:VEVENT
BEGIN:VTIMEZONE
TZID:Europe/Paris
X-LIC-LOCATION:Europe/Paris
BEGIN:STANDARD
DTSTART:20171029T020000
TZOFFSETFROM:+0200
TZOFFSETTO:+0100
TZNAME:CET
END:STANDARD
END:VTIMEZONE
END:VCALENDAR