BEGIN:VCALENDAR
VERSION:2.0
PRODID:-//wp-events-plugin.com//7.2.3.1//EN
TZID:Europe/Paris
X-WR-TIMEZONE:Europe/Paris
BEGIN:VEVENT
UID:8456@i2m.univ-amu.fr
DTSTART;TZID=Europe/Paris:20231218T100000
DTEND;TZID=Europe/Paris:20231218T120000
DTSTAMP:20241209T160745Z
URL:https://www.i2m.univ-amu.fr/evenements/soutenance-dhabilitation-edp-st
 ochastiques-schemas-volumes-finis-et-applications-a-la-mecanique/
SUMMARY:Caroline Bauzet (I2M\, Aix-Marseille Université): EDP stochastique
 s\, schémas volumes-finis et applications à la mécanique
DESCRIPTION:Caroline Bauzet: \nAprès l'avis des rapporteurs :\n\nM. Jérô
 me DRONIOU - Professeur des Universités - Université de Monash\nM. 
 Christian ROHDE - Professeur des Universités - Université de Stuttgar
 t\nM. Julien VOVELLE - Directeur de recherches CNRS - ENS de Lyon\n\net
  devant le jury composé de :\n\n\nMme Anne de BOUARD - Directrice de r
 echerches CNRS - École polytechnique\nMme Claire CHAINAIS-HILLAIRET -
  Professeure des Universités - Université de Lille\nM. Frédéric LEB
 ON - Professeur des Universités - Aix-Marseille Université\nM. Christ
 ian ROHDE - Professeur des Universités - Université de Stuttgart\nM. 
 Guy VALLET - Professeur des Universités - Université de Pau\nM. Julie
 n VOVELLE - Directeur de recherches CNRS - ENS de Lyon\n\nMembre invit
 é : M. Thierry GALLOUËT.\n\n
CATEGORIES:Soutenance d'HdR,Analyse Appliquée
LOCATION:Chateau-Gombert - Laboratoire de Mécanique et d'Acoustique (LMA)\
 , Campus Chateau-Gombert\, Marseille\, France
X-APPLE-STRUCTURED-LOCATION;VALUE=URI;X-ADDRESS=Campus Chateau-Gombert\, Ma
 rseille\, France;X-APPLE-RADIUS=100;X-TITLE=Chateau-Gombert - Laboratoire 
 de Mécanique et d'Acoustique (LMA):geo:0,0
END:VEVENT
BEGIN:VTIMEZONE
TZID:Europe/Paris
X-LIC-LOCATION:Europe/Paris
BEGIN:STANDARD
DTSTART:20231029T020000
TZOFFSETFROM:+0200
TZOFFSETTO:+0100
TZNAME:CET
END:STANDARD
END:VTIMEZONE
END:VCALENDAR