BEGIN:VCALENDAR
VERSION:2.0
PRODID:-//wp-events-plugin.com//7.2.3.1//EN
TZID:Europe/Paris
X-WR-TIMEZONE:Europe/Paris
BEGIN:VEVENT
UID:6363@i2m.univ-amu.fr
DTSTART;TZID=Europe/Paris:20210622T160000
DTEND;TZID=Europe/Paris:20210622T173000
DTSTAMP:20241120T201412Z
URL:https://www.i2m.univ-amu.fr/evenements/soutenances-blanches-imd/
SUMMARY:Cédric de Lacroix\, Giulia Manara (LIS / I2M\, Aix-Marseille Un
 iversité): Quantales de Girard / Réseaux de preuve pour la réduction pa
 rallèle
DESCRIPTION:Cédric de Lacroix\, Giulia Manara: Cette semaine\, Cédric 
 de Lacroix de Lavalette (LIS) et Giulia Manara (AGLR-LDP) présentent les 
 travaux qu'ils ont effectué pour leur stage de master\, dans le domaine d
 e la logique et de l'informatique théorique.\n\n▸ Les doctorant⋅es de
  l'I2M et du LIS ainsi que les étudiant⋅es de master sont toujours les 
 bienvenu⋅es !\n▸ Et à l'issue de la séance\, le séminaire se poursu
 it (éventuellement) autour d'un verre.
CATEGORIES:Séminaire,Rencontres doctorant⋅es I2M-CPT
LOCATION:I2M Luminy - TPR2\, Salle de Séminaire 304-306 (3ème étage)\, 1
 63 Avenue de Luminy\, Marseille\, 13009\, France
X-APPLE-STRUCTURED-LOCATION;VALUE=URI;X-ADDRESS=163 Avenue de Luminy\, Mars
 eille\, 13009\, France;X-APPLE-RADIUS=100;X-TITLE=I2M Luminy - TPR2\, Sall
 e de Séminaire 304-306 (3ème étage):geo:0,0
END:VEVENT
BEGIN:VTIMEZONE
TZID:Europe/Paris
X-LIC-LOCATION:Europe/Paris
BEGIN:DAYLIGHT
DTSTART:20210328T030000
TZOFFSETFROM:+0100
TZOFFSETTO:+0200
TZNAME:CEST
END:DAYLIGHT
END:VTIMEZONE
END:VCALENDAR