BEGIN:VCALENDAR
VERSION:2.0
PRODID:-//wp-events-plugin.com//7.2.3.1//EN
TZID:Europe/Paris
X-WR-TIMEZONE:Europe/Paris
BEGIN:VEVENT
UID:6699@i2m.univ-amu.fr
DTSTART;TZID=Europe/Paris;VALUE=DATE:20200720
DTEND;TZID=Europe/Paris;VALUE=DATE:20200829
DTSTAMP:20241212T135528Z
URL:https://www.i2m.univ-amu.fr/evenements/summer-school-models-and-numeri
 cal-methods-for-particle-and-population-dynamics/
SUMMARY:School (CIRM\, Luminy\, Marseille): Summer School - Models and Nume
 rical Methods for Particle and Population Dynamics (cancelled)
DESCRIPTION:School: AA\n\nCIRM-SMAI SUMMER SCHOOL - CEMRACS (cancelled)\n\n
 \nModels and Numerical Methods for Particle and Population Dynamics\nModè
 les et méthodes numériques pour la dynamique de particules et de populat
 ions\n\n20 July &gt\; 28 August\n\nOrganizers:\nEmmanuel Franck (INRIA Gr
 and Est)\nHélène Hivert (Université Claude Bernard Lyon 1)\nGuillaume 
 Latu (CEA - Cadarache)\nBertrand Maury (Université Paris-Sud)\nMichel M
 ehrenberger (I2M\, Aix-Marseille Université)\nSara Merino-Aceituno (Univ
 ersity of Sussex)\nLaurent Navoret (Université de Strasbourg)
CATEGORIES:École ou Master class
LOCATION:Luminy - CIRM\, 163 Avenue de Luminy\, Marseille\, 13009\, France
X-APPLE-STRUCTURED-LOCATION;VALUE=URI;X-ADDRESS=163 Avenue de Luminy\, Mars
 eille\, 13009\, France;X-APPLE-RADIUS=100;X-TITLE=Luminy - CIRM:geo:0,0
END:VEVENT
BEGIN:VTIMEZONE
TZID:Europe/Paris
X-LIC-LOCATION:Europe/Paris
BEGIN:DAYLIGHT
DTSTART:20200329T030000
TZOFFSETFROM:+0100
TZOFFSETTO:+0200
TZNAME:CEST
END:DAYLIGHT
END:VTIMEZONE
END:VCALENDAR