BEGIN:VCALENDAR
VERSION:2.0
PRODID:-//wp-events-plugin.com//7.2.3.1//EN
TZID:Europe/Paris
X-WR-TIMEZONE:Europe/Paris
BEGIN:VEVENT
UID:9082@i2m.univ-amu.fr
DTSTART;TZID=Europe/Paris:20260429T111500
DTEND;TZID=Europe/Paris:20260429T115500
DTSTAMP:20260424T142403Z
URL:https://www.i2m.univ-amu.fr/evenements/sur-la-monotuile/
SUMMARY:Arnaud Chéritat (Institut de Mathématiques de Toulouse): Sur la m
 onotuile
DESCRIPTION:Arnaud Chéritat: Une décoration particulière sur la tuile Sp
 ectre fait apparaître\, sur les pavages du plan par cette tuile\, des mot
 ifs hexagonaux qui sont disposés par grappes triangulaires de 6\, 3 ou 1 
 triangle(s). Les pavages par le Spectre étant quasi-périodiques (par aut
 o-similarité) ces grappes forment un motif quasi-périodique\, dont nous 
 étudions la structure auto-similaire. Cette étude donne une approche alt
 ernative pour la preuve du caractère pavant apériodique du Spectre.
CATEGORIES:Séminaire,Ernest,Rauzy
LOCATION:I2M Luminy - TPR2\, Salle de Séminaire 304-306 (3ème étage)\, 1
 63 Avenue de Luminy\, Marseille\, 13009\, France
X-APPLE-STRUCTURED-LOCATION;VALUE=URI;X-ADDRESS=163 Avenue de Luminy\, Mars
 eille\, 13009\, France;X-APPLE-RADIUS=100;X-TITLE=I2M Luminy - TPR2\, Sall
 e de Séminaire 304-306 (3ème étage):geo:0,0
END:VEVENT
BEGIN:VTIMEZONE
TZID:Europe/Paris
X-LIC-LOCATION:Europe/Paris
BEGIN:DAYLIGHT
DTSTART:20260329T030000
TZOFFSETFROM:+0100
TZOFFSETTO:+0200
TZNAME:CEST
END:DAYLIGHT
END:VTIMEZONE
END:VCALENDAR