BEGIN:VCALENDAR
VERSION:2.0
PRODID:-//wp-events-plugin.com//7.2.3.1//EN
TZID:Europe/Paris
X-WR-TIMEZONE:Europe/Paris
BEGIN:VEVENT
UID:2347@i2m.univ-amu.fr
DTSTART;TZID=Europe/Paris:20180525T150000
DTEND;TZID=Europe/Paris:20180525T170000
DTSTAMP:20241209T220150Z
URL:https://www.i2m.univ-amu.fr/evenements/sur-une-nouvelle-decomposition-
 de-lespace-des-polynomes-a-racines-simples-application-a-la-cohomologie-de
 s-groupes-de-tresses/
SUMMARY:Noémie Combe (I2M\, Aix-Marseille Université): Sur une nouvelle d
 écomposition de l’espace des polynômes à racines simples : applicatio
 n à la cohomologie des groupes de tresses
DESCRIPTION:Noémie Combe: Sous la direction de Bernard Coupet.\n\nLiens :\
 n- theses.fr\n- Fiche de l'ED184
CATEGORIES:Soutenance de thèse,AGT
END:VEVENT
BEGIN:VTIMEZONE
TZID:Europe/Paris
X-LIC-LOCATION:Europe/Paris
BEGIN:DAYLIGHT
DTSTART:20180325T030000
TZOFFSETFROM:+0100
TZOFFSETTO:+0200
TZNAME:CEST
END:DAYLIGHT
END:VTIMEZONE
END:VCALENDAR