BEGIN:VCALENDAR
VERSION:2.0
PRODID:-//wp-events-plugin.com//7.2.3.1//EN
TZID:Europe/Paris
X-WR-TIMEZONE:Europe/Paris
BEGIN:VEVENT
UID:5440@i2m.univ-amu.fr
DTSTART;TZID=Europe/Paris:20250109T110000
DTEND;TZID=Europe/Paris:20250109T120000
DTSTAMP:20250109T073838Z
URL:https://www.i2m.univ-amu.fr/evenements/tba-114/
SUMMARY:Xavier Blot (University of Amsterdam): Autour de l’équivalence D
 R-DZ
DESCRIPTION:Xavier Blot: Un enjeu majeur en géométrie énumérative\, mot
 ivé par la théorie des cordes\, est le calcul des invariants de Gromov-W
 itten d'une variété cible X. En 1990\, la conjecture de Witten\, prouvé
 e par Kontsevich un an plus tard\, prédit que les invariants de Gromov-Wi
 tten pour une variété cible réduite à un point sont régis par la hié
 rarchie de KdV. L'objectif de cet exposé est d'expliquer comment la conje
 cture DR-DZ\, que nous avons récemment établie\, permet de généraliser
  ce résultat en construisant une hiérarchie intégrable qui gouverne les
  invariants de Gromov-Witten pour toute variété lisse projective X (et p
 lus généralement\, pour le potentiel de toute theorie cohomologique des 
 champs).\n\nCet exposé sera introductif : nous rappellerons la conjecture
  de Witten avant de présenter le problème général que nous avons réso
 lu.
CATEGORIES:Séminaire,Géométrie et Topologie de Marseille
END:VEVENT
BEGIN:VTIMEZONE
TZID:Europe/Paris
X-LIC-LOCATION:Europe/Paris
BEGIN:STANDARD
DTSTART:20241027T020000
TZOFFSETFROM:+0200
TZOFFSETTO:+0100
TZNAME:CET
END:STANDARD
END:VTIMEZONE
END:VCALENDAR