BEGIN:VCALENDAR
VERSION:2.0
PRODID:-//wp-events-plugin.com//7.2.3.1//EN
TZID:Europe/Paris
X-WR-TIMEZONE:Europe/Paris
BEGIN:VEVENT
UID:4993@i2m.univ-amu.fr
DTSTART;TZID=Europe/Paris:20231207T170000
DTEND;TZID=Europe/Paris:20231207T180000
DTSTAMP:20241124T140017Z
URL:https://www.i2m.univ-amu.fr/evenements/tba-28-2/
SUMMARY: (...): Quantification géométrique par la méthode des orbites de
  Kirillov
DESCRIPTION:: En physique\, la quantification géométrique est le passage 
 d'un système classique\, décrit par une G-variété hamiltonienne\, à u
 n système quantique\, décrit par un espace de Hilbert. Dans cet exposé\
 , on se propose d'interpréter mathématiquement ce problème dans le cadr
 e de la théorie des représentations des groupes de Lie. Avec ce formalis
 me\, la quantification géométrique devient une application de la méthod
 e des orbites de Kirillov\, et les étapes dites de "pré-quantification" 
 et "polarisation" apparaissent plus clairement. Par souci de simplicité\,
  on se restreindra au cas de l'oscillateur harmonique unidimensionnel. Enf
 in\, on expliquera en quoi la quantification peut être utile aux experts 
 de la théorie des représentations et permet\, conjecturalement\, de déc
 rire la géométrie du dual tempéré du groupe G et d'en obtenir la mesur
 e de Plancherel.\n\n&nbsp\;\n\n\n\nLe séminaire des doctorant⋅es de l'I
 2M et du CPT à Luminy regroupe chaque semaine les doctorant⋅es du site 
 autour d'un exposé plus ou moins (in)formel\, dans un cadre convivial. Il
  est évidemment ouvert aux étudiant⋅es de master et aux doctorant⋅es
  d'autres laboratoires.\n\nC'est au rez-de-chaussée du bâtiment de « l'
 ancienne BU »\, dans la salle « Séminaire 2 » (au fond à gauche en so
 rtant de l'escalier si vous venez de l'étage\, au fond à droite si vous 
 entrez par le rez-de-chaussée). Attention : l'entrée dans le labo néces
 site un badge. En cas de souci (de type : être bloqué⋅e dehors)\, appe
 ler le 04 91 26 95 91.
CATEGORIES:Séminaire,Rencontres doctorant⋅es I2M-CPT
LOCATION:I2M Luminy - Ancienne BU\, Salle Séminaire2 (RdC)\, 163 Avenue de
  Luminy\, 13009 Marseille\, France\, 
X-APPLE-STRUCTURED-LOCATION;VALUE=URI;X-ADDRESS=163 Avenue de Luminy\, 1300
 9 Marseille\, France\, ;X-APPLE-RADIUS=100;X-TITLE=I2M Luminy - Ancienne B
 U\, Salle Séminaire2 (RdC):geo:0,0
END:VEVENT
BEGIN:VTIMEZONE
TZID:Europe/Paris
X-LIC-LOCATION:Europe/Paris
BEGIN:STANDARD
DTSTART:20231029T020000
TZOFFSETFROM:+0200
TZOFFSETTO:+0100
TZNAME:CET
END:STANDARD
END:VTIMEZONE
END:VCALENDAR