BEGIN:VCALENDAR
VERSION:2.0
PRODID:-//wp-events-plugin.com//7.2.3.1//EN
TZID:Europe/Paris
X-WR-TIMEZONE:Europe/Paris
BEGIN:VEVENT
UID:9079@i2m.univ-amu.fr
DTSTART;TZID=Europe/Paris:20260427T153000
DTEND;TZID=Europe/Paris:20260427T163000
DTSTAMP:20260422T075258Z
URL:https://www.i2m.univ-amu.fr/evenements/the-division-of-labour-in-the-h
 istory-of-intelligence-techniques-a-prehistory-of-ai/
SUMMARY:Simon Dumas (OpenEditions): The division of labour in the history o
 f intelligence techniques. A prehistory of AI.
DESCRIPTION:Simon Dumas: 
CATEGORIES:Séminaire,MABioS
LOCATION:I2M Luminy - TPR2\, Amphithéâtre Herbrand 130-134 (1er étage)\,
  163 Avenue de Luminy\, Marseille\, 13009\, France
X-APPLE-STRUCTURED-LOCATION;VALUE=URI;X-ADDRESS=163 Avenue de Luminy\, Mars
 eille\, 13009\, France;X-APPLE-RADIUS=100;X-TITLE=I2M Luminy - TPR2\, Amph
 ithéâtre Herbrand 130-134 (1er étage):geo:0,0
END:VEVENT
BEGIN:VTIMEZONE
TZID:Europe/Paris
X-LIC-LOCATION:Europe/Paris
BEGIN:DAYLIGHT
DTSTART:20260329T030000
TZOFFSETFROM:+0100
TZOFFSETTO:+0200
TZNAME:CEST
END:DAYLIGHT
END:VTIMEZONE
END:VCALENDAR