BEGIN:VCALENDAR
VERSION:2.0
PRODID:-//wp-events-plugin.com//7.2.3.1//EN
TZID:Europe/Paris
X-WR-TIMEZONE:Europe/Paris
BEGIN:VEVENT
UID:9081@i2m.univ-amu.fr
DTSTART;TZID=Europe/Paris:20260429T103000
DTEND;TZID=Europe/Paris:20260429T111000
DTSTAMP:20260424T083155Z
URL:https://www.i2m.univ-amu.fr/evenements/the-mathematics-in-making-pictu
 res-of-lattices/
SUMMARY:Edmund Harriss (University of Arkansas\, USA): The mathematics in m
 aking pictures of lattices
DESCRIPTION:Edmund Harriss: In engineering a problem is considered and then
  tools lined up to solve it. In the artisan tradition of craft the tool is
  asked what it can do. Just as mathematics is often a curiosity driven res
 earch\, different ways of experiencing mathematics can reveal different as
 pects of it\, and we might not know what might be revealed until we have e
 xplored the ideas. Mathematics is often involved in the details of underst
 anding what we are seeing. In this talk I will show illustrations of latti
 ces and flows on lattices using shaders\, some of the math that goes into 
 creating and understanding them and how this is leading to faster images o
 f algebraic numbers.
CATEGORIES:Séminaire,Ernest,Rauzy
LOCATION:I2M Luminy - TPR2\, Salle de Séminaire 304-306 (3ème étage)\, 1
 63 Avenue de Luminy\, Marseille\, 13009\, France
X-APPLE-STRUCTURED-LOCATION;VALUE=URI;X-ADDRESS=163 Avenue de Luminy\, Mars
 eille\, 13009\, France;X-APPLE-RADIUS=100;X-TITLE=I2M Luminy - TPR2\, Sall
 e de Séminaire 304-306 (3ème étage):geo:0,0
END:VEVENT
BEGIN:VTIMEZONE
TZID:Europe/Paris
X-LIC-LOCATION:Europe/Paris
BEGIN:DAYLIGHT
DTSTART:20260329T030000
TZOFFSETFROM:+0100
TZOFFSETTO:+0200
TZNAME:CEST
END:DAYLIGHT
END:VTIMEZONE
END:VCALENDAR