BEGIN:VCALENDAR
VERSION:2.0
PRODID:-//wp-events-plugin.com//7.2.3.1//EN
TZID:Europe/Paris
X-WR-TIMEZONE:Europe/Paris
BEGIN:VEVENT
UID:7436@i2m.univ-amu.fr
DTSTART;TZID=Europe/Paris:20171204T000000
DTEND;TZID=Europe/Paris:20171208T000000
DTSTAMP:20241216T085328Z
URL:https://www.i2m.univ-amu.fr/evenements/tilings-and-recurrence-morlet-c
 hair-shigeki-akiyama/
SUMMARY:Conference (CIRM\, Luminy\, Marseille): Tilings and Recurrence (Mor
 let Chair Shigeki Akiyama)
DESCRIPTION:Conference: \n\n\n\n CIRM - Jean-Morlet Chair \n Shigeki AKIYAM
 A - PIERRE ARNOUX\n\n​Tiling &amp\; Discrete Geometry\n\nPavages et géo
 métrie discrète\n\n\n 2017 - Semester 2 \n\n\n\n\n\n\n\n\n\n\n\nCONFEREN
 CE\nTiling and Recurrence (1721)\nPavages et récurrence\nDates: 4-8 Decem
 ber 2017 at CIRM (Marseille Luminy\, France)\n\n[su_spacer]\n\n\n\n\n\n\n\
 n\n\n SCHEDULE \n\n\n\n\n\n PARTICIPANTS \n\n\n\n\n\n ABSTRACTS \n\n\n\n\n
 \n\n  \n\n\n\n\n\n\n\n  \n\n\n\n\n\n\n\n\n\n\n\n\n\n\n\n\n\n\n\n\n\n\n\n\n
 DESCRIPTION\n\n\nIn this conference\, we are interested in the recent deve
 lopments around the mathematical theory of tilings and its recurrence prop
 erties\, which have a lot of connections with other areas like number theo
 ry\, dynamical system\, quasi-crystal\, computer science and discrete geom
 etry. We intend to focus particularly on the following areas:\n\nRecurrenc
 e properties of tiling and number theory\nThere has been a series of recen
 t developments on bounded remainder sets involving various methods (dynami
 cal\, topological\, number theoretical\, see [2\, 3]). We plan to discuss 
 and compare different approaches involved there. We would like to consider
  frequencies and recurrence properties in tiling spaces\, by focusing on v
 ariants of ergodic averages in this framework.\n\nSpectral property of til
 ing dynamical systems\nRelated to the first theme\, we shall discuss the l
 ong standing Pisot substitution conjecture\, the main remaining problem in
  this area. Pure discreteness of tiling is essentially the strongest recur
 rence property we can have\, which is equivalent to almost periodicity of 
 the associated point set (c.f. [6\, 1]). On this occasion we wish to merge
  people working in these areas to produce possible breakthroughs.\n\nAperi
 odic tile set and quasi-crystals\nAn aperiodic hexagonal monotile was foun
 d by Taylor-Socolar [5]. More recently the number of aperiodic tile set of
  Wang tiles reached its theoretical minimum 11 with Jeandel-Rao [4]. Their
  recurrence properties are quite fascinating and we shall discuss them as 
 models of quasi-crystals.\n\nReferences\n[1] S. Akiyama and J.-Y. Lee\, Al
 gorithm for determining pure pointedness of self-affine tilings\, Adv. Mat
 h. 226 (2011)\, no. 4\, 2855-2883.\n[2] A. Haynes\, M. Kelly\, and B. Weis
 s\, Equivalence relations on separated nets arising from linear toral flow
 s\, Proc. Lond. Math. Soc. (3) 109 (2014)\, no. 5\, 1203-1228.\n[3] A. Hay
 nes\, H. Koivusalo\, L.Sadun\, and J. Walton\, Gaps problems and frequenci
 es of patches in cut and project sets\, ArXiv:1411.0578.\n[4] E. Jeandel a
 nd M. Rao\, An aperiodic set of 11 wang tiles\, ArXiv:1506:-6492.\n[5] J. 
 E. S. Socolar and J. M. Taylor\, An aperiodic hexagonal tile\, Journal of 
 Combinatorial Theory 18 (2011)\, 2207-2231.\n[6] B. Solomyak\, Dynamics of
  self-similar tilings\, Ergodic Theory Dynam. Systems 17 (1997)\, no. 3\, 
 695-738.\n\n\n\n\n\n\n  \n\n\n\n\n\n  \n\n\n\n\n[su_spacer]\n\n\n\n\n\n\n\
 n\n\n\nSCIENTIFIC COMMITTEE\n\n\n 	Michael Baake (Bielefeld University)\n 
 	Marcy Barge (Montana State University)\n 	Valérie Berthé (Université P
 aris Diderot)\n 	Fabien Durand (Université de Picardie Jules Verne)\n 	Jo
 hannes Kellendonk (Université Lyon 1)\n 	Jeong Yup Lee (Catholic Kwandong
  University)\n 	Anne Siegel (IRISA Rennes)\n 	Boris Solomyak (University o
 f Bar-Ilan)\n 	Jörg M. Thuswaldner (Montanuniversität Leoben)\n\n\n\nORG
 ANIZING COMMITTEE\n\n\n 	Shigeki Akiyama (University of Tsukuba &amp\; Aix
 -Marseille Université)\n 	Pierre Arnoux (Aix-Marseille Université)\n\n\n
 \nSPEAKERS\n\n\n 	Michael Baake (Bielefeld University)\n\nAutocorrelation 
 and diffraction via renormalisation Part II: Extensions and generalisation
 s\n\n 	Artemi Berlinkov (Bar-Ilan University)\n\nSingular substitutions of
  constant length\n\n 	Valérie Berthé (Université Paris Diderot)\n\nDime
 nsion groups and recurrence for tree subshifts (pdf)\n\n 	Adnene Besbes (
 Université Paris Diderot) -\n\nThermodynamic formalism on aperiodic linea
 rly repetitive tilings (pdf)\n\n 	Alexander I. Bufetov  (Aix-Marseille Un
 iversité)\n\nHolder estimates for the spectrum of substitution systems an
 d translation flows\n\n 	Danilo Antonio Caprio (UNESP-IBILCE Brazil)\n\nDy
 namics of stochastic Bratteli diagrams\n\n 	Julien Cassaigne (Aix-Marseill
 e Université)\n\nA set of sequences of complexity 2n+1 (pdf)\n\n 	Thierry
  Coulbois (Aix-Marseille Université)\n\nTree substitutions and Rauzy frac
 tals (pdf)\n\n 	Karma Dajani (Utrecht University)\n\nAlgebraic sums and pr
 oducts of univoque bases - VIDEO\n\n 	David Damanik (Rice University)\n\nT
 he Fibonacci Trace Map - VIDEO\n\n 	Hiromi Ei (Hirosaki University)\n\nTil
 ings associated to the nearest integer complex continued fractions over im
 aginary quadratic fields (pdf)\n\n 	Thomas Fernique (Université Paris 13)
 \n\nLocal rules for planar tilings\n\n 	Uwe Grimm (Open University)\n\nAut
 ocorrelation and diffraction via renormalisation - Part I: Concepts and ex
 amples in one dimension\n\n 	Pierre Guillon (Aix-Marseille Université)\n
 \nDeterministic and expansive directions in 2D subshifts\n\n 	Alan Haynes 
 (University of Houston) - VIDEO\n\nBounded remainder sets for rotations o
 n p-adic solenoids - \n\n 	Steven Hurder (University of Illinois at Chicag
 o)\n\nWild solenoids and tilings (pdf)\n\n 	Dong Han Kim (Dongguk Univers
 ity)\n\nOn the higher-dimensional three-distance theorem\n\n 	Henna Koivus
 alo (University of Vienna)\n\nCut and project sets\, linear repetition of 
 patterns\, and the Littlewood conjecture \n\n 	Sébastien Labbé (LaBRI B
 ordeaux)\n\nOn the dynamics of Jeandel-Rao tilings (pdf)\n\n 	Paul Mercat 
 (Aix-Marseille Université)\n\nYet another characterization of the Pisot c
 onjecture - VIDEO\n\n 	Yasushi Nagai (Montanuniversität Leoben)\n\nA gene
 ralization of local derivability and its consequences\n\n 	Wolfgang Steine
 r (Université Paris Diderot)\n\nRecognizability for sequences of morphism
 s - VIDEO \n\n\n\n\n\n\n\n\n\n\n\n\n\n\n\n\n\n\n\n\n  \n\n\n\n\n\n\n\n\n\n
 \n\n\n\n\n\n\n\n\n\n\n\n\n\n\n\n\n\n\n\n\n\n\n
CATEGORIES:Colloque,Morlet Chair Semester
END:VEVENT
BEGIN:VTIMEZONE
TZID:Europe/Paris
X-LIC-LOCATION:Europe/Paris
BEGIN:STANDARD
DTSTART:20171029T020000
TZOFFSETFROM:+0200
TZOFFSETTO:+0100
TZNAME:CET
END:STANDARD
END:VTIMEZONE
END:VCALENDAR