BEGIN:VCALENDAR
VERSION:2.0
PRODID:-//wp-events-plugin.com//7.2.3.1//EN
TZID:Europe/Paris
X-WR-TIMEZONE:Europe/Paris
BEGIN:VEVENT
UID:5960@i2m.univ-amu.fr
DTSTART;TZID=Europe/Paris:20220922T170000
DTEND;TZID=Europe/Paris:20220922T183000
DTSTAMP:20241120T200705Z
URL:https://www.i2m.univ-amu.fr/evenements/titre-a-venir-3/
SUMMARY:Loïc Marsot (CPT\, AMU): Invariance\, symétries et covariance
DESCRIPTION:Loïc Marsot: Nous verrons comment l'observation de symétries\
 , formalisées à travers la notion de groupe\, nous permet de construire 
 une description géométrique de notre Univers ainsi qu'un catalogue de so
 n contenu. Sa géométrie sera construire grâce au programme d'Erlangen d
 e Felix Klein\, alors que le contenu sera décrit en termes de dual de l'a
 lgèbre du groupe considéré\, ce qui nous fera parler d'invariants de Ca
 simir. On considérera aussi l'action de symétries sur les théories\, ou
  la notion de covariance.\n\n&nbsp\;\n\n\n\nLe séminaire des doctorant⋅
 es de l'I2M et du CPT à Luminy regroupe chaque semaine les doctorant⋅es
  du site autour d'un exposé plus ou moins (in)formel\, dans un cadre conv
 ivial. Il est évidemment ouvert aux étudiant⋅es de master et aux docto
 rant⋅es d'autres laboratoires.\n\nC'est au rez-de-chaussée du bâtiment
  de « l'ancienne BU »\, dans la salle « Séminaire 2 » (au fond à gau
 che en sortant de l'escalier si vous venez de l'étage\, au fond à droite
  si vous entrez par le rez-de-chaussée). Attention : l'entrée dans le la
 bo nécessite un badge. En cas de souci (de type : être bloqué⋅e dehor
 s)\, appeler le 04 91 26 95 91.
CATEGORIES:Séminaire,Rencontres doctorant⋅es I2M-CPT
LOCATION:I2M Luminy - Ancienne BU\, Salle Séminaire2 (RdC)\, 163 Avenue de
  Luminy\, 13009 Marseille\, France\, 
X-APPLE-STRUCTURED-LOCATION;VALUE=URI;X-ADDRESS=163 Avenue de Luminy\, 1300
 9 Marseille\, France\, ;X-APPLE-RADIUS=100;X-TITLE=I2M Luminy - Ancienne B
 U\, Salle Séminaire2 (RdC):geo:0,0
END:VEVENT
BEGIN:VTIMEZONE
TZID:Europe/Paris
X-LIC-LOCATION:Europe/Paris
BEGIN:DAYLIGHT
DTSTART:20220327T030000
TZOFFSETFROM:+0100
TZOFFSETTO:+0200
TZNAME:CEST
END:DAYLIGHT
END:VTIMEZONE
END:VCALENDAR