BEGIN:VCALENDAR
VERSION:2.0
PRODID:-//wp-events-plugin.com//7.2.3.1//EN
TZID:Europe/Paris
X-WR-TIMEZONE:Europe/Paris
BEGIN:VEVENT
UID:5766@i2m.univ-amu.fr
DTSTART;TZID=Europe/Paris:20230130T000000
DTEND;TZID=Europe/Paris:20230203T000000
DTSTAMP:20241120T200211Z
URL:https://www.i2m.univ-amu.fr/evenements/topology-btw-3-morse-theory-and
 -applications/
SUMMARY:Workshop (CIRM\, Luminy\, Marseille): Topology BTW 3: Morse theory 
 and applications
DESCRIPTION:Workshop: \n\n\n\n\n\nWORKSHOP\n\n\n\n\nTopology BTW 3: Morse t
 heory and applications\nTopologie BTW 3: Théorie de Morse et applications
 \n[su_spacer size="10"]\n30 January – 3 February 2023\n\n\n\n\n\n\n\n\n\
 n\n\n\n\n\n\n[su_spacer size="10"]\n\n\n\n\n\nOrganizing Committee\nComit
 é d’organisation\nLéo Bénard (University of Göttingen)\nMarco De Re
 nzi (University of Zurich)\nJules Martel (Institut de Mathématiques de 
 Bourgogne)\nDelphine Moussard (Aix-Marseille Université)\nLouis-Hadrien 
 Robert (University of Luxembourg)\n\n\n\n\n\n\n\n\n\n\n[su_spacer size="1
 0"]\n\n\n\n\n\n  Time schedule  \n\n\n\n\n\n\n\n\n\n\n\n  Abstracts  \n\n\
 n\n\n\n\n\n\n\n\n\n  Participants  \n\n\n\n\n\n\n\n\n\n\n\n\n[su_spacer si
 ze="10"]\n\n\n\n\n\n\n\n\n\n\n\n\nThe aim of this meeting is to bring toge
 ther mainly PhD students and young researchers to study a theme around low
 -dimensional topology for a week. Part of the week is dedicated to introdu
 ctory talks before focusing on more recent questions. It is planned to kee
 p some free time to encourage the questions that the presentations are bou
 nd to generate. This is the third edition of this meeting\, and participat
 ion is growing every year.The first edition took place at CIRM in February
  2021\, see the website. The theme was the relations between homological 
 and quantum invariants in low dimensional topology.\nThe second edition to
 ok place at the Centre CNRS Paul Langevin\, Aussois\, France\, in April 20
 22\, see the website. The theme was the relations between knots and knott
 ed surfaces on the one hand\, and 4-dimensional varieties on the other han
 d\, as well as the possible links with quantum invariants in dimension 3.\
 nThe organisers prepare a list of talks with a detailed abstract and solid
  references to allow the exhibitors to work on their presentation in the b
 est conditions. About two months before the event\, the programme is sent 
 to potential participants (mainly PhD students) who then choose their pres
 entation. The aim of the workshop is to work together to understand comple
 x and important theories and techniques in current research in low dimensi
 onal topology. Interaction between participants is encouraged\, including 
 if possible before the workshop. This workshop allows us to strengthen the
  links between the young members of our community\, and to progress by stu
 dying together topics that are difficult to understand alone.\n\n\n\n\n\n\
 n\n\n\nL’objectif de cette rencontre est de réunir principalement des d
 octorant.es et jeunes chercheur.euses pour étudier pendant une semaine un
  thème autour de la topologie de basse dimension. Une partie de la semain
 e est dédiée à des exposés introductifs avant de se consacrer à des q
 uestions plus récentes. Il est prévu de garder du temps libre pour encou
 rager les questions que les présentations ne manqueront pas d’engendrer
 . C’est la troisième édition de cette rencontre\, dont la participatio
 n croît chaque année.La première édition a eu lieu au CIRM en février
  2021\, voir le site internet. Le thème était les relations entre les 
 invariants homologiques et quantiques en topologie de basse dimension.\nLa
  deuxième édition a eu lieu au Centre CNRS Paul Langevin\, Aussois\, Fra
 nce\, en avril 2022\, voir le site internet. Le thème était les relatio
 ns entre nœuds et surfaces nouées d’une part\, et variétés de dimens
 ion 4 d’autre part\, ainsi que les liens possibles avec les invariants q
 uantiques en dimension 3.\nLes organisateur.trices préparent une liste d
 ’exposés avec un résumé détaillé et de solides références pour pe
 rmettre aux exposant.es de travailler à leur présentation dans les meill
 eures conditions. Environ deux mois avant l’événement\, le programme e
 st envoyé aux participant.es potentiels (essentiellement des doctorant.es
 ) qui choisissent alors leur exposé. Le but du workshop est de travailler
  ensemble à comprendre des théories et des techniques complexes et impor
 tantes dans la recherche actuelle en topologie de petite dimension. Les in
 teractions entre participant.es sont encouragées\, y compris si possible 
 en amont du workshop. Ce workshop permet d’une part de renforcer les lie
 ns entre les jeunes membres de notre communauté\, et d’autre part nous 
 fait progresser en étudiant ensemble des sujets difficiles `a appréhende
 r seul.\n\n\n\n\n\n\n\n\n\n\n\n\n\n[su_spacer size="10"]\n\n\n\n\n\n\n\n\n
 \n\n\n\nSPEAKERS\nto be announced\n\n\n\n\n\n\n\n\n\n\n\n\n\n[su_spacer si
 ze="10"]\n\n\n\n\n\n\n\n\n\n\n\n\nSPONSORS\n \n\n\n\n\n\n\n\n\n\n\n  \n\n
 \n\n\n\n\n\n  Trisections and symplectic structures on smooth 4-manifolds 
 &amp\; Higher dimensional generalizations – SyTriQ\n\n\n\n\n\n\n\n  \n\n
 \n\n\n\n\n\n\n\n  \n\n\n\n\n\n\n\n\n\n\n\n\n\n\n\n\n\n\n\n\n[su_spacer siz
 e="10"]\n\n\n\n\n\n
ATTACH;FMTTYPE=image/jpeg:https://www.i2m.univ-amu.fr/wp-content/uploads/2
 023/01/image_workshop-Morse_theory_and_applications-Edelsbrunner-Harer.jpg
CATEGORIES:Manifestation scientifique,Morlet Workshop
LOCATION:Luminy - CIRM\, 163 Avenue de Luminy\, Marseille\, 13009\, France
X-APPLE-STRUCTURED-LOCATION;VALUE=URI;X-ADDRESS=163 Avenue de Luminy\, Mars
 eille\, 13009\, France;X-APPLE-RADIUS=100;X-TITLE=Luminy - CIRM:geo:0,0
END:VEVENT
BEGIN:VTIMEZONE
TZID:Europe/Paris
X-LIC-LOCATION:Europe/Paris
BEGIN:STANDARD
DTSTART:20221030T020000
TZOFFSETFROM:+0200
TZOFFSETTO:+0100
TZNAME:CET
END:STANDARD
END:VTIMEZONE
END:VCALENDAR