BEGIN:VCALENDAR
VERSION:2.0
PRODID:-//wp-events-plugin.com//7.2.3.1//EN
TZID:Europe/Paris
X-WR-TIMEZONE:Europe/Paris
BEGIN:VEVENT
UID:6376@i2m.univ-amu.fr
DTSTART;TZID=Europe/Paris:20210615T140000
DTEND;TZID=Europe/Paris:20210615T150000
DTSTAMP:20241120T201416Z
URL:https://www.i2m.univ-amu.fr/evenements/transport_branche_et_formation_
 de_reseaux_en_biologie/
SUMMARY:Romain Hug et Antonin Monteil (...): Transport branché et formatio
 n de réseaux en biologie
DESCRIPTION:Romain Hug et Antonin Monteil: Petite introduction au transport
  branché et liens avec les modèles biologiques proposés dans les deux p
 apiers \n\n	Haskovec\, J. \; Markowich\, P. \; Perthame B. \; Schlottbom\,
  M. Notes on a PDE system for biological network formation. Nonlinear Anal
 ysis 138 (2016)\, 127–155.\n	Hu\, D. \; Cai\, D. Adaptation and Optimiza
 tion of Biological Transport Networks. Physical review letters 111 (2013)\
 , no. 13\, 138–701.\n\n\n\n\n\nParticiper à la réunion via Zoom\nhttps
 ://univ-amu-fr.zoom.us/j/97207620584?pwd=dFo1K3IwVnBRNUY1emxYU1Z0cXhZQT09\
 nID de réunion : 972 0762 0584
CATEGORIES:Groupe de travail,Maths Bio,Virtual event
END:VEVENT
BEGIN:VTIMEZONE
TZID:Europe/Paris
X-LIC-LOCATION:Europe/Paris
BEGIN:DAYLIGHT
DTSTART:20210328T030000
TZOFFSETFROM:+0100
TZOFFSETTO:+0200
TZNAME:CEST
END:DAYLIGHT
END:VTIMEZONE
END:VCALENDAR