BEGIN:VCALENDAR
VERSION:2.0
PRODID:-//wp-events-plugin.com//7.2.3.1//EN
TZID:Europe/Paris
X-WR-TIMEZONE:Europe/Paris
BEGIN:VEVENT
UID:6676@i2m.univ-amu.fr
DTSTART;TZID=Europe/Paris:20201001T000000
DTEND;TZID=Europe/Paris:20201002T000000
DTSTAMP:20241120T201934Z
URL:https://www.i2m.univ-amu.fr/evenements/trisections-and-symplectic-stru
 ctures-on-smooth-4-manifolds-higher-dimensional-generalizations-anr-sytriq
 /
SUMMARY:Workshop (I2M\, Château-Gombert\, Marseille): Trisections and symp
 lectic structures on smooth 4-manifolds & Higher dimensional generalizatio
 ns (ANR SyTriQ)
DESCRIPTION:Workshop: Workshop dans le cadre de l'ANR SyTriQ.\n\nOrganisati
 on : Benjamin Audoux\n\nTBA
CATEGORIES:Manifestation scientifique,Workshop
LOCATION:I2M Chateau-Gombert - CMI\, Aquarium (2ème étage)\, 39 Rue Jolio
 t Curie\, Marseille\, 13013\, France
X-APPLE-STRUCTURED-LOCATION;VALUE=URI;X-ADDRESS=39 Rue Joliot Curie\, Marse
 ille\, 13013\, France;X-APPLE-RADIUS=100;X-TITLE=I2M Chateau-Gombert - CMI
 \, Aquarium (2ème étage):geo:0,0
END:VEVENT
BEGIN:VTIMEZONE
TZID:Europe/Paris
X-LIC-LOCATION:Europe/Paris
BEGIN:DAYLIGHT
DTSTART:20200329T030000
TZOFFSETFROM:+0100
TZOFFSETTO:+0200
TZNAME:CEST
END:DAYLIGHT
END:VTIMEZONE
END:VCALENDAR