BEGIN:VCALENDAR
VERSION:2.0
PRODID:-//wp-events-plugin.com//7.2.3.1//EN
TZID:Europe/Paris
X-WR-TIMEZONE:Europe/Paris
BEGIN:VEVENT
UID:7310@i2m.univ-amu.fr
DTSTART;TZID=Europe/Paris:20180523T112000
DTEND;TZID=Europe/Paris:20180523T122000
DTSTAMP:20241120T203907Z
URL:https://www.i2m.univ-amu.fr/evenements/un-crible-quadratique-naturel-e
 stimations-explicites/
SUMMARY:Harald A. Helfgott (IMJ-PRG\, Sorbonne Université\, Paris): Un cri
 ble quadratique naturel : estimations explicites
DESCRIPTION:Harald A. Helfgott: TBA\n\nA natural quadratic sieve: explicit 
 estimations.\n\n&nbsp\;
ATTACH;FMTTYPE=image/jpeg:https://www.i2m.univ-amu.fr/wp-content/uploads/2
 020/01/Harald_Helfgott.jpg
CATEGORIES:Séminaire,Ernest
END:VEVENT
BEGIN:VTIMEZONE
TZID:Europe/Paris
X-LIC-LOCATION:Europe/Paris
BEGIN:DAYLIGHT
DTSTART:20180325T030000
TZOFFSETFROM:+0100
TZOFFSETTO:+0200
TZNAME:CEST
END:DAYLIGHT
END:VTIMEZONE
END:VCALENDAR