BEGIN:VCALENDAR
VERSION:2.0
PRODID:-//wp-events-plugin.com//7.2.3.1//EN
TZID:Europe/Paris
X-WR-TIMEZONE:Europe/Paris
BEGIN:VEVENT
UID:6973@i2m.univ-amu.fr
DTSTART;TZID=Europe/Paris:20190923T140000
DTEND;TZID=Europe/Paris:20190923T150000
DTSTAMP:20241120T202639Z
URL:https://www.i2m.univ-amu.fr/evenements/un-lien-entre-les-singularites-
 elliptiques-et-les-algebres-de-lie/
SUMMARY:Meral Tosun (Galatasaray University\, Istanbul): Un lien entre les 
 singularités elliptiques et les algèbres de Lie
DESCRIPTION:Meral Tosun: En utilisant le théorème de Grothendieck-Briesko
 rn on va construire les singularités simples des surfaces a partir d'un a
 lgèbre de Lie de dimension finie. De meme façon\, on va montrer la const
 ruction des singularités elliptiques simples des surfaces\; ensuite\, on 
 va presenter une généralisation de la tranche de Slodowy pour obtenir un
 e deformation de ces singularités obtenue de l'algebre de Lie corresponda
 nt.\n&nbsp\;
ATTACH;FMTTYPE=image/jpeg:https://www.i2m.univ-amu.fr/wp-content/uploads/2
 020/01/Meral_Tosun.jpg
CATEGORIES:Séminaire,Dynamique et Topologie
END:VEVENT
BEGIN:VTIMEZONE
TZID:Europe/Paris
X-LIC-LOCATION:Europe/Paris
BEGIN:DAYLIGHT
DTSTART:20190331T030000
TZOFFSETFROM:+0100
TZOFFSETTO:+0200
TZNAME:CEST
END:DAYLIGHT
END:VTIMEZONE
END:VCALENDAR