BEGIN:VCALENDAR
VERSION:2.0
PRODID:-//wp-events-plugin.com//7.2.3.1//EN
TZID:Europe/Paris
X-WR-TIMEZONE:Europe/Paris
BEGIN:VEVENT
UID:8372@i2m.univ-amu.fr
DTSTART;TZID=Europe/Paris:20140514T111500
DTEND;TZID=Europe/Paris:20140514T121500
DTSTAMP:20241120T210352Z
URL:https://www.i2m.univ-amu.fr/evenements/un-probleme-extremal-pour-les-f
 onctions-caracteristiques/
SUMMARY:Isabelle Chalendar (Institut Camille Jordan\, Lyon): Un problème e
 xtrémal pour les fonctions caractéristiques
DESCRIPTION:Isabelle Chalendar: Nous discuterons un problème extrémal dua
 l H1/ H∞ pour les fonctions caractéristiques de borélien du cercle uni
 té. Nous donnerons des estimations générales ainsi que des solutions ex
 plicites dans certains cas particuliers. Il s'agit d'un travail commun ave
 c S.R. Garcia\, W.T. Ross. et D. Timotin. \nAn extremal problem for charac
 teristic functions\nWe will discuss a dual extremal problem H1/ H∞ for t
 he Borelian characteristic functions of the unit circle. We will give gene
 ral estimates as well as explicit solutions in specific cases. This is a j
 oint work with S.R. Garcia\, W.T. Ross. and D. Timotin.\nhttps://www.ams.o
 rg/journals/tran/2016-368-06/S0002-9947-2015-06446-0/\n\n\n
ATTACH;FMTTYPE=image/jpeg:https://www.i2m.univ-amu.fr/wp-content/uploads/2
 021/04/Isabelle_Chalendar.jpg
CATEGORIES:Séminaire,Analyse et Géométrie
END:VEVENT
BEGIN:VTIMEZONE
TZID:Europe/Paris
X-LIC-LOCATION:Europe/Paris
BEGIN:DAYLIGHT
DTSTART:20140330T030000
TZOFFSETFROM:+0100
TZOFFSETTO:+0200
TZNAME:CEST
END:DAYLIGHT
END:VTIMEZONE
END:VCALENDAR