BEGIN:VCALENDAR
VERSION:2.0
PRODID:-//wp-events-plugin.com//7.2.3.1//EN
TZID:Europe/Paris
X-WR-TIMEZONE:Europe/Paris
BEGIN:VEVENT
UID:5585@i2m.univ-amu.fr
DTSTART;TZID=Europe/Paris:20140310T100000
DTEND;TZID=Europe/Paris:20140310T110000
DTSTAMP:20241031T171639Z
URL:https://www.i2m.univ-amu.fr/evenements/universal-taylor-series-and-pot
 ential-theory/
SUMMARY:Stephen Gardiner (University College Dublin): Universal Taylor seri
 es and potential theory
DESCRIPTION:Stephen Gardiner: In various mathematical contexts it is possib
 le to find a single object which\, when subjected to a countable process\,
  yields approximations to the whole universe under study. Such an object i
 s termed "universal" and\, contrary to expectations\, such objects often t
 urn out to be generic rather than exceptional. This talk will focus on thi
 s phenomenon in respect of the Taylor series of a holomorphic function\, a
 nd how the partial sums behave outside the domain of the function. It will
  discuss how potential theory reveals much about the boundary behaviour of
  such functions\, and their relationship with conformal mappings.\nhttp://
 users.uoa.gr/~apgiannop/Analysis_2017/Gardiner.pdf\n
ATTACH;FMTTYPE=image/jpeg:https://www.i2m.univ-amu.fr/wp-content/uploads/2
 021/04/Stephen_Gardiner.jpg
CATEGORIES:Séminaire,Analyse et Géométrie
END:VEVENT
BEGIN:VTIMEZONE
TZID:Europe/Paris
X-LIC-LOCATION:Europe/Paris
BEGIN:STANDARD
DTSTART:20131027T020000
TZOFFSETFROM:+0200
TZOFFSETTO:+0100
TZNAME:CET
END:STANDARD
END:VTIMEZONE
END:VCALENDAR