BEGIN:VCALENDAR
VERSION:2.0
PRODID:-//wp-events-plugin.com//7.2.3.1//EN
TZID:Europe/Paris
X-WR-TIMEZONE:Europe/Paris
BEGIN:VEVENT
UID:2341@i2m.univ-amu.fr
DTSTART;TZID=Europe/Paris:20180523T110000
DTEND;TZID=Europe/Paris:20180523T120000
DTSTAMP:20180508T090000Z
URL:https://www.i2m.univ-amu.fr/evenements/varietes-de-debarre-voisin-et-s
 urfaces-k3/
SUMMARY: (...): Variétés de Debarre-Voisin et surfaces K3
DESCRIPTION:: Il s'agit d'un travail en collaboration avec F. Han. Les vari
 étés de Debarre-Voisin sont associées au choix d'un trivecteur à 10 va
 riables. Ce sont des variétés hyper-Kählériennes déformations de Hilb
 ^2(K3). On construit une famille de codimension 1 de "limites" de telles v
 ariétés\, qui sont isomorphes à des Hilb^2(S)\, où S est l'intersectio
 n d'une cubique et d'une quadrique dans P^4. Cette construction fournit l'
 analogue du diviseur de Hassett pour les cubiques de P^5.http://webusers.i
 mj-prg.fr/~claire.voisin/
CATEGORIES:Séminaire,Géométrie Complexe
END:VEVENT
BEGIN:VTIMEZONE
TZID:Europe/Paris
X-LIC-LOCATION:Europe/Paris
BEGIN:DAYLIGHT
DTSTART:20180325T030000
TZOFFSETFROM:+0100
TZOFFSETTO:+0200
TZNAME:CEST
END:DAYLIGHT
END:VTIMEZONE
END:VCALENDAR