BEGIN:VCALENDAR
VERSION:2.0
PRODID:-//wp-events-plugin.com//7.2.3.1//EN
TZID:Europe/Paris
X-WR-TIMEZONE:Europe/Paris
BEGIN:VEVENT
UID:6742@i2m.univ-amu.fr
DTSTART;TZID=Europe/Paris:20200527T140000
DTEND;TZID=Europe/Paris:20200527T153000
DTSTAMP:20241209T193037Z
URL:https://www.i2m.univ-amu.fr/evenements/varietes-de-shimura-formes-modu
 laires-et-analogues-sur-les-corps-de-fonctions-hdr-marc-hubert-nicole/
SUMMARY:Marc-Hubert Nicole (I2M\, Aix-Marseille Université): Variétés de
  Shimura\, formes modulaires et analogues sur les corps de fonctions
DESCRIPTION:Marc-Hubert Nicole: Varieties of Shimura\, modular and analogou
 s forms on function bodies\n\nhttps://www.researchgate.net/scientific-cont
 ributions/Marc-Hubert-Nicole-2006171769
ATTACH;FMTTYPE=image/jpeg:https://www.i2m.univ-amu.fr/wp-content/uploads/2
 020/01/Marc-Hubert_Nicole.jpg
CATEGORIES:Soutenance d'HdR,AGLR,Représentations des Groupes Réductifs
LOCATION:I2M Luminy - TPR2\, Amphithéâtre Herbrand 130-134 (1er étage)\,
  163 Avenue de Luminy\, Marseille\, 13009\, France
X-APPLE-STRUCTURED-LOCATION;VALUE=URI;X-ADDRESS=163 Avenue de Luminy\, Mars
 eille\, 13009\, France;X-APPLE-RADIUS=100;X-TITLE=I2M Luminy - TPR2\, Amph
 ithéâtre Herbrand 130-134 (1er étage):geo:0,0
END:VEVENT
BEGIN:VTIMEZONE
TZID:Europe/Paris
X-LIC-LOCATION:Europe/Paris
BEGIN:DAYLIGHT
DTSTART:20200329T030000
TZOFFSETFROM:+0100
TZOFFSETTO:+0200
TZNAME:CEST
END:DAYLIGHT
END:VTIMEZONE
END:VCALENDAR