BEGIN:VCALENDAR
VERSION:2.0
PRODID:-//wp-events-plugin.com//7.2.3.1//EN
TZID:Europe/Paris
X-WR-TIMEZONE:Europe/Paris
BEGIN:VEVENT
UID:8580@i2m.univ-amu.fr
DTSTART;TZID=Europe/Paris:20250211T153000
DTEND;TZID=Europe/Paris:20250211T173000
DTSTAMP:20250206T164433Z
URL:https://www.i2m.univ-amu.fr/evenements/varietes-topologiques-de-dimens
 ion-3-en-pratique-5/
SUMMARY:Martin Mion-Mouton (I2M): Variétés topologiques de dimension 3 en
  pratique
DESCRIPTION:Martin Mion-Mouton: 1. Modèle algébrique de la somme connexe
  avec S^1xS^2 : l’éclatement d’une courbe singulière (suite)\, Guill
 aume\n2. Suspensions d'homéomorphismes du tore et leur géométrisation\,
  Martin
CATEGORIES:Groupe de travail,Variétés topologiques de dimension 3
LOCATION:Saint-Charles - FRUMAM  (2ème étage)\, 3 Place Victor Hugo\, Mar
 seille\, 13003\, France
X-APPLE-STRUCTURED-LOCATION;VALUE=URI;X-ADDRESS=3 Place Victor Hugo\, Marse
 ille\, 13003\, France;X-APPLE-RADIUS=100;X-TITLE=Saint-Charles - FRUMAM  (
 2ème étage):geo:0,0
END:VEVENT
BEGIN:VTIMEZONE
TZID:Europe/Paris
X-LIC-LOCATION:Europe/Paris
BEGIN:STANDARD
DTSTART:20241027T020000
TZOFFSETFROM:+0200
TZOFFSETTO:+0100
TZNAME:CET
END:STANDARD
END:VTIMEZONE
END:VCALENDAR